BEGIN_USGS_DOQ_HEADER *
QUADRANGLE_NAME "SISKIYOU PASS" *
QUADRANT NE *
WEST_LONGITUDE -122 33 45.000 *
EAST_LONGITUDE -122 30 0.000 *
NORTH_LATITUDE 42 7 30.000 *
SOUTH_LATITUDE 42 3 45.000 *
PRODUCTION_DATE 2001 6 18 *
RASTER_ORDER LEFT_RIGHT/TOP_BOTTOM *
BAND_ORGANIZATION "SINGLE FILE" *
BAND_CONTENT BLACK&WHITE *
BITS_PER_PIXEL 8 *
SAMPLES_AND_LINES 5901 7584 *
HORIZONTAL_DATUM NAD83 *
HORIZONTAL_COORDINATE_SYSTEM UTM *
COORDINATE_ZONE 10 *
HORIZONTAL_UNITS METERS *
HORIZONTAL_RESOLUTION 1.0 *
SECONDARY_HORIZONTAL_DATUM NAD27 *
XY_ORIGIN 535767.742 4664075.939 *
SECONDARY_XY_ORIGIN 535862.750 4663878.475 *
NATION US *
STATE OR *
NW_QUAD_CORNER_XY 536161.748 4663747.589 *
NE_QUAD_CORNER_XY 541327.724 4663775.939 *
SE_QUAD_CORNER_XY 541368.320 4656836.494 *
SW_QUAD_CORNER_XY 536197.269 4656808.151 *
SECONDARY_NW_QUAD_XY 536162.750 4663533.857 *
SECONDARY_NE_QUAD_XY 541328.870 4663562.207 *
SECONDARY_SE_QUAD_XY 541369.465 4656622.857 *
SECONDARY_SW_QUAD_XY 536198.271 4656594.513 *
RMSE_XY 2.31 *
IMAGE_SOURCE "BLACK AND WHITE FILM" *
SOURCE_IMAGE_ID "NAPP 10481 197" *
SOURCE_IMAGE_DATE 1998 8 14 *
SOURCE_IMAGE_ID "NAPP 10481 196" *
SOURCE_IMAGE_DATE 1998 8 14 *
SOURCE_IMAGE_ID "NAPP 10481 198" *
SOURCE_IMAGE_DATE 1998 8 14 *
SOURCE_IMAGE_ID "NAPP 10481 159" *
SOURCE_IMAGE_DATE 1998 8 14 *
SOURCE_IMAGE_ID "NAPP 10481 158" *
SOURCE_IMAGE_DATE 1998 8 14 *
SOURCE_IMAGE_ID "NAPP 10481 157" *
SOURCE_IMAGE_DATE 1998 8 14 *
SOURCE_DEM_DATE 1999 0 0 *
AGENCY "WESTERN MAPPING CENTER (WMC)" *
PRODUCER "USDA FS GEOSPATIAL SERVICE AND TECHNOLOGY CENTER" *
PRODUCTION_SYSTEM "ORBIT OR_RECTIFY V.5.2" *
STANDARD_VERSION 1996 12 *
METADATA_DATE 2001 6 20 *
DATA_FILE_SIZE 44759085 *
BYTE_COUNT 5901 * * * * * * * * * * * * * * * * * * * * *
END_USGS_HEADER *
