BEGIN_USGS_DOQ_HEADER *
QUADRANGLE_NAME "MOUNT ASHLAND" *
QUADRANT NE *
WEST_LONGITUDE -122 41 15.000 *
EAST_LONGITUDE -122 37 30.000 *
NORTH_LATITUDE 42 7 30.000 *
SOUTH_LATITUDE 42 3 45.000 *
PRODUCTION_DATE 2001 6 18 *
RASTER_ORDER LEFT_RIGHT/TOP_BOTTOM *
BAND_ORGANIZATION "SINGLE FILE" *
BAND_CONTENT BLACK&WHITE *
BITS_PER_PIXEL 8 *
SAMPLES_AND_LINES 5891 7576 *
HORIZONTAL_DATUM NAD83 *
HORIZONTAL_COORDINATE_SYSTEM UTM *
COORDINATE_ZONE 10 *
HORIZONTAL_UNITS METERS *
HORIZONTAL_RESOLUTION 1.0 *
SECONDARY_HORIZONTAL_DATUM NAD27 *
XY_ORIGIN 525435.453 4664023.020 *
SECONDARY_XY_ORIGIN 525530.524 4663825.682 *
NATION US *
STATE OR *
NW_QUAD_CORNER_XY 525829.807 4663702.231 *
NE_QUAD_CORNER_XY 530995.776 4663723.020 *
SE_QUAD_CORNER_XY 531026.222 4656783.588 *
SW_QUAD_CORNER_XY 525855.179 4656762.803 *
SECONDARY_NW_QUAD_XY 525830.524 4663488.497 *
SECONDARY_NE_QUAD_XY 530996.635 4663509.287 *
SECONDARY_SE_QUAD_XY 531027.082 4656569.949 *
SECONDARY_SW_QUAD_XY 525855.896 4656549.164 *
RMSE_XY 2.31 *
IMAGE_SOURCE "BLACK AND WHITE FILM" *
SOURCE_IMAGE_ID "NAPP 10485 147" *
SOURCE_IMAGE_DATE 1998 8 24 *
SOURCE_IMAGE_ID "NAPP 10485 146" *
SOURCE_IMAGE_DATE 1998 8 24 *
SOURCE_IMAGE_ID "NAPP 10485 148" *
SOURCE_IMAGE_DATE 1998 8 24 *
SOURCE_IMAGE_ID "NAPP 10485 45" *
SOURCE_IMAGE_DATE 1998 8 24 *
SOURCE_IMAGE_ID "NAPP 10485 44" *
SOURCE_IMAGE_DATE 1998 8 24 *
SOURCE_IMAGE_ID "NAPP 10485 43" *
SOURCE_IMAGE_DATE 1998 8 24 *
SOURCE_IMAGE_ID "NAPP 10481 159" *
SOURCE_IMAGE_DATE 1998 8 14 *
SOURCE_IMAGE_ID "NAPP 10481 158" *
SOURCE_IMAGE_DATE 1998 8 14 *
SOURCE_IMAGE_ID "NAPP 10481 157" *
SOURCE_IMAGE_DATE 1998 8 14 *
SOURCE_DEM_DATE 1999 0 0 *
AGENCY "WESTERN MAPPING CENTER (WMC)" *
PRODUCER "USDA FS GEOSPATIAL SERVICE AND TECHNOLOGY CENTER" *
PRODUCTION_SYSTEM "ORBIT OR_RECTIFY V.5.2" *
STANDARD_VERSION 1996 12 *
METADATA_DATE 2001 6 20 *
DATA_FILE_SIZE 44636107 *
BYTE_COUNT 5891 * * * * * * * * * * * * * * *
END_USGS_HEADER *
