BEGIN_USGS_DOQ_HEADER *
QUADRANGLE_NAME "DUTCHMAN PEAK" *
WEST_LONGITUDE -123 0 0.000 *
EAST_LONGITUDE -122 52 30.000 *
NORTH_LATITUDE 42 7 30.000 *
SOUTH_LATITUDE 42 0 0.000 *
PRODUCTION_DATE 2002 3 6 *
RASTER_ORDER LEFT_RIGHT/TOP_BOTTOM *
BAND_ORGANIZATION "SINGLE FILE" *
BAND_CONTENT BLACK&WHITE *
BITS_PER_PIXEL 8 *
SAMPLES_AND_LINES 10924 14448 *
HORIZONTAL_DATUM "NAD83" *
HORIZONTAL_COORDINATE_SYSTEM UTM *
COORDINATE_ZONE 10 *
HORIZONTAL_UNITS METERS *
HORIZONTAL_RESOLUTION 1.00 *
SECONDARY_HORIZONTAL_DATUM "NAD27" *
XY_ORIGIN 499699.493 4663962.507 *
SECONDARY_XY_ORIGIN 499794.781 4663765.574 *
NATION US *
STATE OR *
STATE CA *
NW_QUAD_CORNER_XY 500000.000 4663654.984 *
NE_QUAD_CORNER_XY 510331.919 4663662.543 *
SE_QUAD_CORNER_XY 510352.204 4649783.781 *
SW_QUAD_CORNER_XY 500000.000 4649776.225 *
SECONDARY_NW_QUAD_XY 500000.000 4663441.246 *
SECONDARY_NE_QUAD_XY 510332.204 4663448.806 *
SECONDARY_SE_QUAD_XY 510352.489 4649570.234 *
SECONDARY_SW_QUAD_XY 500000.000 4649562.678 *
RMSE_XY 10.00 *
IMAGE_SOURCE "BLACK & WHITE FILM" *
SOURCE_IMAGE_ID "NAPP 12286-68" *
SOURCE_IMAGE_DATE 2000 8 14 *
SOURCE_IMAGE_ID "NAPP 12286-61" *
SOURCE_IMAGE_DATE 2000 8 14 *
SOURCE_IMAGE_ID "NAPP 12286-59" *
SOURCE_IMAGE_DATE 2000 8 14 *
SOURCE_IMAGE_ID "NAPP 12286-70" *
SOURCE_IMAGE_DATE 2000 8 14 *
SOURCE_DEM_DATE 1999 1 1 *
AGENCY "WESTERN MAPPING CENTER (WMC)" *
PRODUCER "USDA FS REGION 6" *
PRODUCTION_SYSTEM "PIXMAP V1.0 ON I386 LINUX" *
STANDARD_VERSION 1996 12 *
METADATA_DATE 2002 11 20 *
DATA_FILE_SIZE 157840876 *
BYTE_COUNT 10924 * CONTRACTOR "PIXXURES, INC." * * * * * * * * * * * * * * * * * * * * * * * * * * * * * * * * * * * * * * * * * * * * * * * * * * * * * * * * * * * * * * * * * * * * * * * * * * * * * * * * * * * * * * *
END_USGS_HEADER *
