BEGIN_USGS_DOQ_HEADER *
QUADRANGLE_NAME "DUTCHMAN PEAK" *
QUADRANT NE *
WEST_LONGITUDE -122 56 15.000 *
EAST_LONGITUDE -122 52 30.000 *
NORTH_LATITUDE 42 7 30.000 *
SOUTH_LATITUDE 42 3 45.000 *
PRODUCTION_DATE 2001 6 18 *
RASTER_ORDER LEFT_RIGHT/TOP_BOTTOM *
BAND_ORGANIZATION "SINGLE FILE" *
BAND_CONTENT BLACK&WHITE *
BITS_PER_PIXEL 8 *
SAMPLES_AND_LINES 5871 7562 *
HORIZONTAL_DATUM NAD83 *
HORIZONTAL_COORDINATE_SYSTEM UTM *
COORDINATE_ZONE 10 *
HORIZONTAL_UNITS METERS *
HORIZONTAL_RESOLUTION 1.0 *
SECONDARY_HORIZONTAL_DATUM NAD27 *
XY_ORIGIN 504770.861 4663962.543 *
SECONDARY_XY_ORIGIN 504866.104 4663765.529 *
NATION US *
STATE OR *
NW_QUAD_CORNER_XY 505165.959 4663656.873 *
NE_QUAD_CORNER_XY 510331.919 4663662.543 *
SE_QUAD_CORNER_XY 510342.067 4656723.124 *
SW_QUAD_CORNER_XY 505171.033 4656717.456 *
SECONDARY_NW_QUAD_XY 505166.105 4663443.138 *
SECONDARY_NE_QUAD_XY 510332.207 4663448.808 *
SECONDARY_SE_QUAD_XY 510342.356 4656509.485 *
SECONDARY_SW_QUAD_XY 505171.179 4656503.816 *
RMSE_XY 2.31 *
IMAGE_SOURCE "BLACK AND WHITE FILM" *
SOURCE_IMAGE_ID "NAPP 10485 41" *
SOURCE_IMAGE_DATE 1998 8 24 *
SOURCE_IMAGE_ID "NAPP 10485 40" *
SOURCE_IMAGE_DATE 1998 8 24 *
SOURCE_IMAGE_ID "NAPP 10485 42" *
SOURCE_IMAGE_DATE 1998 8 24 *
SOURCE_IMAGE_ID "NAPP 10485 151" *
SOURCE_IMAGE_DATE 1998 8 24 *
SOURCE_IMAGE_ID "NAPP 10485 150" *
SOURCE_IMAGE_DATE 1998 8 24 *
SOURCE_IMAGE_ID "NAPP 10485 149" *
SOURCE_IMAGE_DATE 1998 8 24 *
SOURCE_IMAGE_ID "NAPP 10481 154" *
SOURCE_IMAGE_DATE 1998 8 14 *
SOURCE_IMAGE_ID "NAPP 10481 155" *
SOURCE_IMAGE_DATE 1998 8 14 *
SOURCE_IMAGE_ID "NAPP 10481 156" *
SOURCE_IMAGE_DATE 1998 8 14 *
SOURCE_DEM_DATE 1999 0 0 *
AGENCY "WESTERN MAPPING CENTER (WMC)" *
PRODUCER "USDA FS GEOSPATIAL SERVICE AND TECHNOLOGY CENTER" *
PRODUCTION_SYSTEM "ORBIT OR_RECTIFY V.5.2" *
STANDARD_VERSION 1996 12 *
METADATA_DATE 2001 6 20 *
DATA_FILE_SIZE 44402373 *
BYTE_COUNT 5871 * * * * * * * * * * * * * * *
END_USGS_HEADER *
