BEGIN_USGS_DOQ_HEADER *
QUADRANGLE_NAME "EMIGRANT LAKE" *
WEST_LONGITUDE -122 37 30.000 *
EAST_LONGITUDE -122 30 00.000 *
NORTH_LATITUDE 042 15 00.00 *
SOUTH_LATITUDE 042 07 30.00 *
PRODUCTION_DATE 2003 03 13 *
RASTER_ORDER LEFT_RIGHT/TOP_BOTTOM *
BAND_ORGANIZATION "SINGLE FILE" *
BAND_CONTENT BLACK&WHITE *
BITS_PER_PIXEL 8 *
SAMPLES_AND_LINES 11088 14550 *
HORIZONTAL_DATUM NAD83 *
HORIZONTAL_COORDINATE_SYSTEM UTM *
COORDINATE_ZONE 10 *
HORIZONTAL_UNITS METERS *
HORIZONTAL_RESOLUTION 1.000 *
SECONDARY_HORIZONTAL_DATUM NAD27 *
XY_ORIGIN 530540.000 4677956.000 *
SECONDARY_XY_ORIGIN 530634.940 4677758.660 *
NATION US *
STATE OR *
NW_QUAD_CORNER_XY 530934.771 4677602.112 *
NE_QUAD_CORNER_XY 541246.384 4677655.053 *
SE_QUAD_CORNER_XY 541327.724 4663775.939 *
SW_QUAD_CORNER_XY 530995.776 4663723.020 *
SECONDARY_NW_QUAD_XY 530935.629 4677388.189 *
SECONDARY_NE_QUAD_XY 541247.528 4677441.132 *
SECONDARY_SE_QUAD_XY 541328.867 4663562.204 *
SECONDARY_SW_QUAD_XY 530996.632 4663509.284 *
RMSE_XY 3.93833 *
IMAGE_SOURCE "Black & White film" *
SOURCE_IMAGE_ID "NAPP 12292 016" *
SOURCE_IMAGE_DATE 2001 07 13 *
SOURCE_IMAGE_ID "NAPP 12292 018" *
SOURCE_IMAGE_DATE 2001 07 13 *
SOURCE_IMAGE_ID "NAPP 12763 057" *
SOURCE_IMAGE_DATE 2001 07 14 *
SOURCE_IMAGE_ID "NAPP 12763 059" *
SOURCE_IMAGE_DATE 2001 07 14 *
SOURCE_DEM_DATE 1999 12 13 *
AGENCY "Western Mapping Center (WMC)" *
PRODUCER "State of Oregon" *
PRODUCTION_SYSTEM "Pixmap v2.0 on i386 Linux" *
STANDARD_VERSION 1996 12 *
METADATA_DATE 2003 03 22 *
DATA_FILE_SIZE 161341488 *
BYTE_COUNT 11088 * USGS_GRID 4212252 * * * * * * * * * * * * * * * * * * * * * * * * * * * * * * * * * * * * * * * * * * * * * * * * * * * * * * * * * * * * * * * * * * * * * * * * * * * * * * * * * * * * * * * * * *
END_USGS_HEADER *
