BEGIN_USGS_DOQ_HEADER *
QUADRANGLE_NAME "EMIGRANT LAKE" 3.45 or 7.5-min. name*
QUADRANT SW quadrant indicator if cell size = 3.75-minutes*
WEST_LONGITUDE -122 37 30.000 signed deg min sec SDDD MM SS.SSS*
EAST_LONGITUDE -122 33 45.000 signed deg min sec SDDD MM SS.SSS*
NORTH_LATITUDE 42 11 15.000 signed deg min sec SDDD MM SS.SSS*
SOUTH_LATITUDE 42 7 30.000 signed deg min sec SDDD MM SS.SSS*
PRODUCTION_DATE 1997 11 26 yyyy mm dd*
RASTER_ORDER left_right/top_bottom video display order*
BAND_ORGANIZATION "single file" single file or BSQ, or BIL or BIP*
BAND_CONTENT BLACK&WHITE black&white or red green blue*
BITS_PER_PIXEL 8 radiometric resolution*
SAMPLES_AND_LINES 5901 7592 number of columns and rows*
HORIZONTAL_DATUM NAD83 primary horizontal datum*
HORIZONTAL_COORDINATE_SYSTEM UTM *
COORDINATE_ZONE 10 coordinate system zone number*
HORIZONTAL_UNITS meters coordinate system units*
HORIZONTAL_RESOLUTION 1.00 pixel horiz. ground sample distance*
SECONDARY_HORIZONTAL_DATUM NAD27 secondary horizontal datum*
XY_ORIGIN 530566.000 4670993.000 coord. of upper left pixel pri. datum*
SECONDARY_XY_ORIGIN 530660.987 4670795.628 coord upper left pixel sec datum*
NATION US nation code*
STATE OR state fip code*
NW_QUAD_CORNER_XY 530965.292 4670662.528 XY coords. of pri. NW quad corner*
NE_QUAD_CORNER_XY 536126.183 4670687.103 XY coords. of pri. NE quad corner*
SE_QUAD_CORNER_XY 536161.748 4663747.589 XY coords. of pri. SE quad corner*
SW_QUAD_CORNER_XY 530995.776 4663723.020 XY coords. of pri. SW quad corner*
SECONDARY_NW_QUAD_XY 530966.149 4670448.698 XY coords. - sec. NW quad cor.*
SECONDARY_NE_QUAD_XY 536127.183 4670473.274 XY coords. - sec. NE quad cor.*
SECONDARY_SE_QUAD_XY 536162.747 4663533.854 XY coords. - sec. SE quad cor.*
SECONDARY_SW_QUAD_XY 530996.632 4663509.284 XY coords. - sec. SW quad cor.*
RMSE_XY 1.29 doq horiz. accuracy*
IMAGE_SOURCE "BLACK AND WHITE FILM" b&w, cir, natural color, other*
SOURCE_IMAGE_ID "NAPP 7180-091" source image id*
SOURCE_IMAGE_DATE 1994 6 29 source image date as yyyy mm dd*
SOURCE_DEM_DATE 1997 2 1 source dem date yyyy mm dd*
AGENCY "WESTERN MAPPING CENTER (WMC)" oversight agency*
PRODUCER "WOOLPERT LLP" producer/contractor*
PRODUCTION_SYSTEM "INTERGRAPH ISPM, ISIR" production system*
STANDARD_VERSION 1996 12 version of DOQ standard*
METADATA_DATE 1997 11 26 date created or changed, yyyy mm dd*
DATA_FILE_SIZE 44806293 data set size in bytes*
BYTE_COUNT 5901 header byte count* * * * * * * * * * * * * * * * * * * * * * * * * * * * * * *
END_USGS_HEADER *
