BEGIN_USGS_DOQ_HEADER *
QUADRANGLE_NAME "ASHLAND" *
WEST_LONGITUDE -122 45 0.000 *
EAST_LONGITUDE -122 37 30.000 *
NORTH_LATITUDE 42 15 0.000 *
SOUTH_LATITUDE 42 7 30.000 *
PRODUCTION_DATE 2002 3 6 *
RASTER_ORDER LEFT_RIGHT/TOP_BOTTOM *
BAND_ORGANIZATION "SINGLE FILE" *
BAND_CONTENT BLACK&WHITE *
BITS_PER_PIXEL 8 *
SAMPLES_AND_LINES 10973 14517 *
HORIZONTAL_DATUM "NAD83" *
HORIZONTAL_COORDINATE_SYSTEM UTM *
COORDINATE_ZONE 10 *
HORIZONTAL_UNITS METERS *
HORIZONTAL_RESOLUTION 1.00 *
SECONDARY_HORIZONTAL_DATUM "NAD27" *
XY_ORIGIN 520323.492 4677901.506 *
SECONDARY_XY_ORIGIN 520418.471 4677704.330 *
NATION US *
STATE OR *
NW_QUAD_CORNER_XY 520623.173 4677564.297 *
NE_QUAD_CORNER_XY 530934.771 4677602.112 *
SE_QUAD_CORNER_XY 530995.776 4663723.021 *
SW_QUAD_CORNER_XY 520663.842 4663685.222 *
SECONDARY_NW_QUAD_XY 520623.745 4677350.373 *
SECONDARY_NE_QUAD_XY 530935.629 4677388.189 *
SECONDARY_SE_QUAD_XY 530996.632 4663509.285 *
SECONDARY_SW_QUAD_XY 520664.413 4663471.485 *
RMSE_XY 10.00 *
IMAGE_SOURCE "BLACK & WHITE FILM" *
SOURCE_IMAGE_ID "NAPP 12276-91" *
SOURCE_IMAGE_DATE 2000 8 6 *
SOURCE_IMAGE_ID "NAPP 12286-24" *
SOURCE_IMAGE_DATE 2000 8 14 *
SOURCE_IMAGE_ID "NAPP 12286-26" *
SOURCE_IMAGE_DATE 2000 8 14 *
SOURCE_IMAGE_ID "NAPP 12276-93" *
SOURCE_IMAGE_DATE 2000 8 6 *
SOURCE_DEM_DATE 1999 1 1 *
AGENCY "WESTERN MAPPING CENTER (WMC)" *
PRODUCER "USDA FS REGION 6" *
PRODUCTION_SYSTEM "PIXMAP V1.0 ON I386 LINUX" *
STANDARD_VERSION 1996 12 *
METADATA_DATE 2002 11 12 *
DATA_FILE_SIZE 159306014 *
BYTE_COUNT 10973 * CONTRACTOR "PIXXURES, INC." * * * * * * * * * * * * * * * * * * * * * * * * * * * * * * * * * * * * * * * * * * * * * * * * * * * * * * * * * * * * * * * * * * * * * * * * * * * * * * * * * * * * * * * * *
END_USGS_HEADER *
