BEGIN_USGS_DOQ_HEADER *
QUADRANGLE_NAME "KERBY PEAK" 3.45 or 7.5-min. name*
QUADRANT SW quadrant indicator if cell size = 3.75-minutes*
WEST_LONGITUDE -123 30 0.000 signed deg min sec SDDD MM SS.SSS*
EAST_LONGITUDE -123 26 15.000 signed deg min sec SDDD MM SS.SSS*
NORTH_LATITUDE 42 11 15.000 signed deg min sec SDDD MM SS.SSS*
SOUTH_LATITUDE 42 7 30.000 signed deg min sec SDDD MM SS.SSS*
PRODUCTION_DATE 1996 11 6 yyyy mm dd*
RASTER_ORDER LEFT_RIGHT/TOP_BOTTOM video display order*
BAND_ORGANIZATION BIP single file or BSQ, or BIL or BIP*
BAND_CONTENT RED black&white or red green blue*
BAND_CONTENT GREEN black&white or red green blue*
BAND_CONTENT BLUE black&white or red green blue*
BITS_PER_PIXEL 8 radiometric resolution*
SAMPLES_AND_LINES 5900 7588 number of columns and rows*
HORIZONTAL_DATUM NAD83 primary horizontal datum*
HORIZONTAL_COORDINATE_SYSTEM UTM *
COORDINATE_ZONE 10 coordinate system zone number*
HORIZONTAL_UNITS METERS coordinate system units*
HORIZONTAL_RESOLUTION 1.00 pixel horiz. ground sample distance*
SECONDARY_HORIZONTAL_DATUM NAD27 secondary horizontal datum*
XY_ORIGIN 458274.000 4671016.000 coord. of upper left pixel pri. datum*
SECONDARY_XY_ORIGIN 458369.923 4670819.575 coord upper left pixel sec datum*
NATION US nation code*
STATE OR state fip code*
NW_QUAD_CORNER_XY 458712.921 4670715.459 XY coords. of pri. NW quad corner*
NE_QUAD_CORNER_XY 463873.817 4670687.103 XY coords. of pri. NE quad corner*
SE_QUAD_CORNER_XY 463838.252 4663747.590 XY coords. of pri. SE quad corner*
SW_QUAD_CORNER_XY 458672.276 4663775.939 XY coords. of pri. SW quad corner*
SECONDARY_NW_QUAD_XY 458711.778 4670501.630 XY coords. - sec. NW quad cor.*
SECONDARY_NE_QUAD_XY 463872.817 4670473.274 XY coords. - sec. NE quad cor.*
SECONDARY_SE_QUAD_XY 463837.253 4663533.854 XY coords. - sec. SE quad cor.*
SECONDARY_SW_QUAD_XY 458671.133 4663562.204 XY coords. - sec. SW quad cor.*
RMSE_XY 4.40 doq horiz. accuracy*
IMAGE_SOURCE "COLOR INFRA-RED FILM" b&w, cir, natural color, other*
SOURCE_IMAGE_ID "NAPP 1345 177" source image id*
SOURCE_IMAGE_DATE 1988 7 6 source image date as yyyy mm dd*
SOURCE_DEM_DATE 1996 11 6 source dem date yyyy mm dd*
AGENCY "WESTERN MAPPING CENTER (WMC)" oversight agency*
PRODUCER "WMC" producer/contractor*
PRODUCTION_SYSTEM "DV2.6.3 10/9OV2.4 5/95" production system*
STANDARD_VERSION 1996 12 version of DOQ standard*
METADATA_DATE 1997 7 5 date created or changed, yyyy mm dd*
DATA_FILE_SIZE 134325300 data set size in bytes*
BYTE_COUNT 17700 header byte count* * * * * * * * * * * * * * * * * * * * * * * * * * * * * * * * * * * * * * * * * * * * * * * * * * * * * * * * * * * * * * * * * * * * * * * * * * * * * * * * * * * * * * * * * * * * * * * * * * * * * * * * * * * * * * * * * * * * * * * * * * * * * * * * * * * * * * * * * * * * * * * * * * * * * * * * * * * * * * * * * * * * * * * * * * * * * * * * *
END_USGS_HEADER *
