BEGIN_USGS_DOQ_HEADER *
QUADRANGLE_NAME "O'BRIEN" *
WEST_LONGITUDE -123 45 0.000 *
EAST_LONGITUDE -123 37 30.000 *
NORTH_LATITUDE 42 7 30.000 *
SOUTH_LATITUDE 42 0 0.000 *
PRODUCTION_DATE 2003 11 21 *
RASTER_ORDER LEFT_RIGHT/TOP_BOTTOM *
BAND_ORGANIZATION BIP *
BAND_CONTENT RED *
BAND_CONTENT GREEN *
BAND_CONTENT BLUE *
BITS_PER_PIXEL 8 *
SAMPLES_AND_LINES 10951 14379 *
HORIZONTAL_DATUM "NAD83" *
HORIZONTAL_COORDINATE_SYSTEM UTM *
COORDINATE_ZONE 10 *
HORIZONTAL_UNITS METERS *
HORIZONTAL_RESOLUTION 1.00 *
SECONDARY_HORIZONTAL_DATUM "NAD27" *
XY_ORIGIN 437589.500 4664126.500 *
SECONDARY_XY_ORIGIN 437685.692 4663930.350 *
NATION US *
STATE OR *
NW_QUAD_CORNER_XY 438008.313 4663927.138 *
NE_QUAD_CORNER_XY 448340.307 4663843.978 *
SE_QUAD_CORNER_XY 448238.877 4649965.133 *
SW_QUAD_CORNER_XY 437886.595 4650048.256 *
SECONDARY_NW_QUAD_XY 438006.599 4663713.408 *
SECONDARY_NE_QUAD_XY 448338.879 4663630.246 *
SECONDARY_SE_QUAD_XY 448237.451 4649751.592 *
SECONDARY_SW_QUAD_XY 437884.883 4649834.716 *
RMSE_XY 3.14 *
IMAGE_SOURCE "NATURAL COLOR FILM" *
SOURCE_IMAGE_ID "616110D 103 039" *
SOURCE_IMAGE_DATE 2003 8 18 *
SOURCE_IMAGE_ID "616110D 103 004" *
SOURCE_IMAGE_DATE 2003 8 18 *
SOURCE_IMAGE_ID "616110D 103 002" *
SOURCE_IMAGE_DATE 2003 8 18 *
SOURCE_IMAGE_ID "616110D 103 041" *
SOURCE_IMAGE_DATE 2003 8 18 *
SOURCE_DEM_DATE 2000 1 1 *
AGENCY "WESTERN MAPPING CENTER (WMC)" *
PRODUCER "USDA FS REGION 6" *
PRODUCTION_SYSTEM "INTERGRAPH MODEL_SETUP, BASE_RECTIFIER" *
STANDARD_VERSION 1996 12 *
METADATA_DATE 2004 1 13 *
DATA_FILE_SIZE 472426140 *
BYTE_COUNT 32853 * CONTRACTOR "SPENCER B. GROSS, INC." * * * * * * * * * * * * * * * * * * * * * * * * * * * * * * * * * * * * * * * * * * * * * * * * * * * * * * * * * * * * * * * * * * * * * * * * * * * * * * * * * * * * * * * * * * * * * * * * * * * * * * * * * * * * * * * * * * * * * * * * * * * * * * * * * * * * * * * * * * * * * * * * * * * * * * * * * * * * * * * * * * * * * * * * * * * * * * * * * * * * * * * * * * * * * * * * * * * * * * * * * * * * * * * * * * * * * * * * * * * * * * * * * * * * * * * * * * * * * * * * * * * * * * * * * * * * * * * * * * * * * * * * * * * * * * * * * * * * * * * * * * * * * * * * * * * * * * * * * * * * * * * * * * * * * * * * * * * * * * * * * * * * * * * * * * * * * * * * * * * * * * * * * * * * * * * * * * * * * * * *
END_USGS_HEADER *
