BEGIN_USGS_DOQ_HEADER *
QUADRANGLE_NAME "CHETCO PEAK" *
WEST_LONGITUDE -124 0 0.000 *
EAST_LONGITUDE -123 52 30.000 *
NORTH_LATITUDE 42 15 0.000 *
SOUTH_LATITUDE 42 7 30.000 *
PRODUCTION_DATE 2003 11 21 *
RASTER_ORDER LEFT_RIGHT/TOP_BOTTOM *
BAND_ORGANIZATION BIP *
BAND_CONTENT RED *
BAND_CONTENT GREEN *
BAND_CONTENT BLUE *
BITS_PER_PIXEL 8 *
SAMPLES_AND_LINES 10972 14410 *
HORIZONTAL_DATUM "NAD83" *
HORIZONTAL_COORDINATE_SYSTEM UTM *
COORDINATE_ZONE 10 *
HORIZONTAL_UNITS METERS *
HORIZONTAL_RESOLUTION 1.00 *
SECONDARY_HORIZONTAL_DATUM "NAD27" *
XY_ORIGIN 417046.500 4678217.500 *
SECONDARY_XY_ORIGIN 417142.783 4678021.276 *
NATION US *
STATE OR *
NW_QUAD_CORNER_XY 417506.924 4678018.100 *
NE_QUAD_CORNER_XY 427818.643 4677904.645 *
SE_QUAD_CORNER_XY 427676.289 4664025.421 *
SW_QUAD_CORNER_XY 417344.230 4664138.827 *
SECONDARY_NW_QUAD_XY 417504.637 4677804.188 *
SECONDARY_NE_QUAD_XY 427816.641 4677690.730 *
SECONDARY_SE_QUAD_XY 427674.290 4663811.693 *
SECONDARY_SW_QUAD_XY 417341.945 4663925.102 *
RMSE_XY 3.39 *
IMAGE_SOURCE "NATURAL COLOR FILM" *
SOURCE_IMAGE_ID "616110D 103 117" *
SOURCE_IMAGE_DATE 2003 8 18 *
SOURCE_IMAGE_ID "616110D 103 119" *
SOURCE_IMAGE_DATE 2003 8 18 *
SOURCE_IMAGE_ID "616110D 103 092" *
SOURCE_IMAGE_DATE 2003 8 18 *
SOURCE_IMAGE_ID "616110D 103 090" *
SOURCE_IMAGE_DATE 2003 8 18 *
SOURCE_IMAGE_ID "616110D 103 121" *
SOURCE_IMAGE_DATE 2003 8 18 *
SOURCE_DEM_DATE 2000 1 1 *
AGENCY "WESTERN MAPPING CENTER (WMC)" *
PRODUCER "USDA FS REGION 6" *
PRODUCTION_SYSTEM "INTERGRAPH MODEL_SETUP, BASE_RECTIFIER" *
STANDARD_VERSION 1996 12 *
METADATA_DATE 2004 1 13 *
DATA_FILE_SIZE 474352476 *
BYTE_COUNT 32916 * CONTRACTOR "SPENCER B. GROSS, INC." * * * * * * * * * * * * * * * * * * * * * * * * * * * * * * * * * * * * * * * * * * * * * * * * * * * * * * * * * * * * * * * * * * * * * * * * * * * * * * * * * * * * * * * * * * * * * * * * * * * * * * * * * * * * * * * * * * * * * * * * * * * * * * * * * * * * * * * * * * * * * * * * * * * * * * * * * * * * * * * * * * * * * * * * * * * * * * * * * * * * * * * * * * * * * * * * * * * * * * * * * * * * * * * * * * * * * * * * * * * * * * * * * * * * * * * * * * * * * * * * * * * * * * * * * * * * * * * * * * * * * * * * * * * * * * * * * * * * * * * * * * * * * * * * * * * * * * * * * * * * * * * * * * * * * * * * * * * * * * * * * * * * * * * * * * * * * * * * * * * * * * * * * * * * * * * * * * * * * * *
END_USGS_HEADER *
