BEGIN_USGS_DOQ_HEADER *
QUADRANGLE_NAME "SQUAW LAKES" *
WEST_LONGITUDE -123 7 30.000 *
EAST_LONGITUDE -123 0 0.000 *
NORTH_LATITUDE 42 7 30.000 *
SOUTH_LATITUDE 42 0 0.000 *
PRODUCTION_DATE 1999 10 12 *
RASTER_ORDER LEFT_RIGHT/TOP_BOTTOM *
BAND_ORGANIZATION "SINGLE FILE" *
BAND_CONTENT BLACK&WHITE *
BITS_PER_PIXEL 8 *
SAMPLES_AND_LINES 10954 14488 *
HORIZONTAL_DATUM NAD83 *
HORIZONTAL_COORDINATE_SYSTEM UTM *
COORDINATE_ZONE 10 *
HORIZONTAL_UNITS METERS *
HORIZONTAL_RESOLUTION 1.000000 *
SECONDARY_HORIZONTAL_DATUM NAD27 *
XY_ORIGIN 489251.980 4663945.602 *
SECONDARY_XY_ORIGIN 489347.500 4663748.800 *
NATION US *
STATE OR *
STATE CA *
NW_QUAD_CORNER_XY 489668.081 4663662.543 *
NE_QUAD_CORNER_XY 500000.000 4663654.984 *
SE_QUAD_CORNER_XY 500000.000 4649776.225 *
SW_QUAD_CORNER_XY 489647.796 4649783.781 *
SECONDARY_NW_QUAD_XY 489667.796 4663448.806 *
SECONDARY_NE_QUAD_XY 500000.000 4663441.246 *
SECONDARY_SE_QUAD_XY 500000.000 4649562.678 *
SECONDARY_SW_QUAD_XY 489647.511 4649570.234 *
RMSE_XY 10.00 *
IMAGE_SOURCE "BLACK AND WHITE FILM" *
SOURCE_IMAGE_ID "NAPP 6257 290" *
SOURCE_IMAGE_DATE 1993 08 27 *
IMAGE_SOURCE "BLACK AND WHITE FILM" *
SOURCE_IMAGE_ID "NAPP 6257 263" *
SOURCE_IMAGE_DATE 1993 08 27 *
IMAGE_SOURCE "BLACK AND WHITE FILM" *
SOURCE_IMAGE_ID "NAPP 6257 288" *
SOURCE_IMAGE_DATE 1993 08 27 *
IMAGE_SOURCE "BLACK AND WHITE FILM" *
SOURCE_IMAGE_ID "NAPP 6257 265" *
SOURCE_IMAGE_DATE 1993 08 27 *
SOURCE_DEM_DATE 1980 00 00 *
AGENCY "WESTERN MAPPING CENTER (WMC)" *
PRODUCER "USDA FS REGION 6" *
PRODUCTION_SYSTEM "INTERGRAPH MODEL_SETUP, BASE_RECTIFIER" *
STANDARD_VERSION 1996 12 *
METADATA_DATE 1999 10 12 *
DATA_FILE_SIZE 158712506 *
BYTE_COUNT 10954 * * * * * * * * * * * * * * * * * * * * * * * * * * * * * * * * * * * * * * * * * * * * * * * * * * * * * * * * * * * * * * * * * * * * * * * * * * * * * * * * * * * * *
END_USGS_HEADER *
