BEGIN_USGS_DOQ_HEADER *
QUADRANGLE_NAME "GRAYBACK MOUNTAIN" *
WEST_LONGITUDE -123 22 30.000 *
EAST_LONGITUDE -123 15 0.000 *
NORTH_LATITUDE 42 7 30.000 *
SOUTH_LATITUDE 42 0 0.000 *
PRODUCTION_DATE 1999 11 04 *
RASTER_ORDER LEFT_RIGHT/TOP_BOTTOM *
BAND_ORGANIZATION "SINGLE FILE" *
BAND_CONTENT BLACK&WHITE *
BITS_PER_PIXEL 8 *
SAMPLES_AND_LINES 10995 14518 *
HORIZONTAL_DATUM NAD83 *
HORIZONTAL_COORDINATE_SYSTEM UTM *
COORDINATE_ZONE 10 *
HORIZONTAL_UNITS METERS *
HORIZONTAL_RESOLUTION 1.000000 *
SECONDARY_HORIZONTAL_DATUM NAD27 *
XY_ORIGIN 468546.638 4664005.829 *
SECONDARY_XY_ORIGIN 468642.500 4663809.300 *
NATION US *
STATE OR *
STATE CA *
NW_QUAD_CORNER_XY 469004.224 4663723.021 *
NE_QUAD_CORNER_XY 479336.158 4663685.222 *
SE_QUAD_CORNER_XY 479295.588 4649806.450 *
SW_QUAD_CORNER_XY 468943.368 4649844.231 *
SECONDARY_NW_QUAD_XY 469003.368 4663509.285 *
SECONDARY_NE_QUAD_XY 479335.587 4663471.485 *
SECONDARY_SE_QUAD_XY 479295.017 4649592.904 *
SECONDARY_SW_QUAD_XY 468942.512 4649630.686 *
RMSE_XY 10.00 *
IMAGE_SOURCE "BLACK AND WHITE FILM" *
SOURCE_IMAGE_ID "NAPP 6256 182" *
SOURCE_IMAGE_DATE 1993 08 26 *
IMAGE_SOURCE "BLACK AND WHITE FILM" *
SOURCE_IMAGE_ID "NAPP 6257 199" *
SOURCE_IMAGE_DATE 1993 08 26 *
IMAGE_SOURCE "BLACK AND WHITE FILM" *
SOURCE_IMAGE_ID "NAPP 6256 180" *
SOURCE_IMAGE_DATE 1993 08 26 *
IMAGE_SOURCE "BLACK AND WHITE FILM" *
SOURCE_IMAGE_ID "NAPP 6257 201" *
SOURCE_IMAGE_DATE 1993 08 26 *
SOURCE_DEM_DATE 1980 00 00 *
AGENCY "WESTERN MAPPING CENTER (WMC)" *
PRODUCER "USDA FS REGION 6" *
PRODUCTION_SYSTEM "INTERGRAPH MODEL_SETUP, BASE_RECTIFIER" *
STANDARD_VERSION 1996 12 *
METADATA_DATE 1999 11 04 *
DATA_FILE_SIZE 159636405 *
BYTE_COUNT 10995 * * * * * * * * * * * * * * * * * * * * * * * * * * * * * * * * * * * * * * * * * * * * * * * * * * * * * * * * * * * * * * * * * * * * * * * * * * * * * * * * * * * * * *
END_USGS_HEADER *
