BEGIN_USGS_DOQ_HEADER *
QUADRANGLE_NAME "OREGON CAVES" *
QUADRANT NE *
WEST_LONGITUDE -123 26 15.000 *
EAST_LONGITUDE -123 22 30.000 *
NORTH_LATITUDE 42 7 30.000 *
SOUTH_LATITUDE 42 3 45.000 *
PRODUCTION_DATE 2001 7 12 *
RASTER_ORDER LEFT_RIGHT/TOP_BOTTOM *
BAND_ORGANIZATION "SINGLE FILE" *
BAND_CONTENT BLACK&WHITE *
BITS_PER_PIXEL 8 *
SAMPLES_AND_LINES 5898 7581 *
HORIZONTAL_DATUM NAD83 *
HORIZONTAL_COORDINATE_SYSTEM UTM *
COORDINATE_ZONE 10 *
HORIZONTAL_UNITS METERS *
HORIZONTAL_RESOLUTION 1.0 *
SECONDARY_HORIZONTAL_DATUM NAD27 *
XY_ORIGIN 463405.755 4664047.589 *
SECONDARY_XY_ORIGIN 463501.677 4663851.135 *
NATION US *
STATE OR *
NW_QUAD_CORNER_XY 463838.252 4663747.589 *
NE_QUAD_CORNER_XY 469004.224 4663723.020 *
SE_QUAD_CORNER_XY 468973.778 4656783.588 *
SW_QUAD_CORNER_XY 463802.731 4656808.151 *
SECONDARY_NW_QUAD_XY 463837.256 4663533.857 *
SECONDARY_NE_QUAD_XY 469003.371 4663509.287 *
SECONDARY_SE_QUAD_XY 468972.925 4656569.950 *
SECONDARY_SW_QUAD_XY 463801.735 4656594.514 *
RMSE_XY 2.69 *
IMAGE_SOURCE "BLACK AND WHITE FILM" *
SOURCE_IMAGE_ID "NAPP 10479 254" *
SOURCE_IMAGE_DATE 1998 8 13 *
SOURCE_IMAGE_ID "NAPP 10479 253" *
SOURCE_IMAGE_DATE 1998 8 13 *
SOURCE_IMAGE_ID "NAPP 10479 255" *
SOURCE_IMAGE_DATE 1998 8 13 *
SOURCE_IMAGE_ID "NAPP 10480 193" *
SOURCE_IMAGE_DATE 1998 8 13 *
SOURCE_IMAGE_ID "NAPP 10480 192" *
SOURCE_IMAGE_DATE 1998 8 13 *
SOURCE_IMAGE_ID "NAPP 10480 191" *
SOURCE_IMAGE_DATE 1998 8 13 *
SOURCE_DEM_DATE 1999 0 0 *
AGENCY "WESTERN MAPPING CENTER (WMC)" *
PRODUCER "USDA FS GEOSPATIAL SERVICE AND TECHNOLOGY CENTER" *
PRODUCTION_SYSTEM "ORBIT OR_RECTIFY V.5.2" *
STANDARD_VERSION 1996 12 *
METADATA_DATE 2001 7 16 *
DATA_FILE_SIZE 44718636 *
BYTE_COUNT 5898 * * * * * * * * * * * * * * * * * * * * *
END_USGS_HEADER *
