BEGIN_USGS_DOQ_HEADER *
QUADRANGLE_NAME "TAKILMA" *
QUADRANT SE *
WEST_LONGITUDE -123 33 45.000 *
EAST_LONGITUDE -123 30 0.000 *
NORTH_LATITUDE 42 3 45.000 *
SOUTH_LATITUDE 42 0 0.000 *
PRODUCTION_DATE 2001 7 12 *
RASTER_ORDER LEFT_RIGHT/TOP_BOTTOM *
BAND_ORGANIZATION "SINGLE FILE" *
BAND_CONTENT BLACK&WHITE *
BITS_PER_PIXEL 8 *
SAMPLES_AND_LINES 5914 7589 *
HORIZONTAL_DATUM NAD83 *
HORIZONTAL_COORDINATE_SYSTEM UTM *
COORDINATE_ZONE 10 *
HORIZONTAL_UNITS METERS *
HORIZONTAL_RESOLUTION 1.0 *
SECONDARY_HORIZONTAL_DATUM NAD27 *
XY_ORIGIN 453017.580 4657168.616 *
SECONDARY_XY_ORIGIN 453113.671 4656972.337 *
NATION US *
STATE CA *
STATE OR *
NW_QUAD_CORNER_XY 453460.623 4656868.616 *
NE_QUAD_CORNER_XY 458631.680 4656836.494 *
SE_QUAD_CORNER_XY 458591.133 4649897.125 *
SW_QUAD_CORNER_XY 453415.008 4649929.240 *
SECONDARY_NW_QUAD_XY 453459.342 4656654.980 *
SECONDARY_NE_QUAD_XY 458630.541 4656622.857 *
SECONDARY_SE_QUAD_XY 458589.996 4649683.584 *
SECONDARY_SW_QUAD_XY 453413.728 4649715.700 *
RMSE_XY 2.69 *
IMAGE_SOURCE "BLACK AND WHITE FILM" *
SOURCE_IMAGE_ID "NAPP 10480 4" *
SOURCE_IMAGE_DATE 1998 8 13 *
SOURCE_IMAGE_ID "NAPP 10480 5" *
SOURCE_IMAGE_DATE 1998 8 13 *
SOURCE_IMAGE_ID "NAPP 10480 3" *
SOURCE_IMAGE_DATE 1998 8 13 *
SOURCE_IMAGE_ID "NAPP 10487 188" *
SOURCE_IMAGE_DATE 1998 8 27 *
SOURCE_IMAGE_ID "NAPP 10477 82" *
SOURCE_IMAGE_DATE 1998 8 12 *
SOURCE_IMAGE_ID "NAPP 10477 83" *
SOURCE_IMAGE_DATE 1998 8 12 *
SOURCE_IMAGE_ID "NAPP 10480 195" *
SOURCE_IMAGE_DATE 1998 8 13 *
SOURCE_IMAGE_ID "NAPP 10480 194" *
SOURCE_IMAGE_DATE 1998 8 13 *
SOURCE_IMAGE_ID "NAPP 10480 193" *
SOURCE_IMAGE_DATE 1998 8 13 *
SOURCE_DEM_DATE 1999 0 0 *
AGENCY "WESTERN MAPPING CENTER (WMC)" *
PRODUCER "USDA FS GEOSPATIAL SERVICE AND TECHNOLOGY CENTER" *
PRODUCTION_SYSTEM "ORBIT OR_RECTIFY V.5.2" *
STANDARD_VERSION 1996 12 *
METADATA_DATE 2001 7 16 *
DATA_FILE_SIZE 44887260 *
BYTE_COUNT 5914 * * * * * * * * * * * * * *
END_USGS_HEADER *
