BEGIN_USGS_DOQ_HEADER *
QUADRANGLE_NAME "WILLIAMS" *
WEST_LONGITUDE -123 22 30.000 *
EAST_LONGITUDE -123 15 0.000 *
NORTH_LATITUDE 42 15 0.000 *
SOUTH_LATITUDE 42 7 30.000 *
PRODUCTION_DATE 2002 3 6 *
RASTER_ORDER LEFT_RIGHT/TOP_BOTTOM *
BAND_ORGANIZATION "SINGLE FILE" *
BAND_CONTENT BLACK&WHITE *
BITS_PER_PIXEL 8 *
SAMPLES_AND_LINES 10974 14517 *
HORIZONTAL_DATUM "NAD83" *
HORIZONTAL_COORDINATE_SYSTEM UTM *
COORDINATE_ZONE 10 *
HORIZONTAL_UNITS METERS *
HORIZONTAL_RESOLUTION 1.00 *
SECONDARY_HORIZONTAL_DATUM "NAD27" *
XY_ORIGIN 468703.495 4677901.506 *
SECONDARY_XY_ORIGIN 468799.223 4677704.920 *
NATION US *
STATE OR *
NW_QUAD_CORNER_XY 469065.229 4677602.112 *
NE_QUAD_CORNER_XY 479376.827 4677564.297 *
SE_QUAD_CORNER_XY 479336.158 4663685.222 *
SW_QUAD_CORNER_XY 469004.224 4663723.021 *
SECONDARY_NW_QUAD_XY 469064.371 4677388.189 *
SECONDARY_NE_QUAD_XY 479376.255 4677350.373 *
SECONDARY_SE_QUAD_XY 479335.587 4663471.485 *
SECONDARY_SW_QUAD_XY 469003.368 4663509.285 *
RMSE_XY 10.00 *
IMAGE_SOURCE "BLACK & WHITE FILM" *
SOURCE_IMAGE_ID "NAPP 12250-183" *
SOURCE_IMAGE_DATE 2000 7 24 *
SOURCE_IMAGE_ID "NAPP 12250-176" *
SOURCE_IMAGE_DATE 2000 7 24 *
SOURCE_IMAGE_ID "NAPP 12250-178" *
SOURCE_IMAGE_DATE 2000 7 24 *
SOURCE_IMAGE_ID "NAPP 12250-181" *
SOURCE_IMAGE_DATE 2000 7 24 *
SOURCE_DEM_DATE 1999 1 1 *
AGENCY "WESTERN MAPPING CENTER (WMC)" *
PRODUCER "USDA FS REGION 6" *
PRODUCTION_SYSTEM "PIXMAP V1.0 ON I386 LINUX" *
STANDARD_VERSION 1996 12 *
METADATA_DATE 2002 11 20 *
DATA_FILE_SIZE 159320532 *
BYTE_COUNT 10974 * CONTRACTOR "PIXXURES, INC." * * * * * * * * * * * * * * * * * * * * * * * * * * * * * * * * * * * * * * * * * * * * * * * * * * * * * * * * * * * * * * * * * * * * * * * * * * * * * * * * * * * * * * * * *
END_USGS_HEADER *
