BEGIN_USGS_DOQ_HEADER *
QUADRANGLE_NAME "KERBY PEAK" *
WEST_LONGITUDE -123 30 0.000 *
EAST_LONGITUDE -123 22 30.000 *
NORTH_LATITUDE 42 15 0.000 *
SOUTH_LATITUDE 42 7 30.000 *
PRODUCTION_DATE 2001 11 20 *
RASTER_ORDER LEFT_RIGHT/TOP_BOTTOM *
BAND_ORGANIZATION "SINGLE FILE" *
BAND_CONTENT BLACK&WHITE *
BITS_PER_PIXEL 8 *
SAMPLES_AND_LINES 10995 14532 *
HORIZONTAL_DATUM "NAD83" *
HORIZONTAL_COORDINATE_SYSTEM UTM *
COORDINATE_ZONE 10 *
HORIZONTAL_UNITS METERS *
HORIZONTAL_RESOLUTION 1.00 *
SECONDARY_HORIZONTAL_DATUM "NAD27" *
XY_ORIGIN 458371.500 4677954.500 *
SECONDARY_XY_ORIGIN 458467.369 4677758.035 *
NATION US *
STATE OR *
NW_QUAD_CORNER_XY 458753.616 4677655.054 *
NE_QUAD_CORNER_XY 469065.229 4677602.112 *
SE_QUAD_CORNER_XY 469004.224 4663723.021 *
SW_QUAD_CORNER_XY 458672.276 4663775.939 *
SECONDARY_NW_QUAD_XY 458752.472 4677441.132 *
SECONDARY_NE_QUAD_XY 469064.371 4677388.189 *
SECONDARY_SE_QUAD_XY 469003.368 4663509.285 *
SECONDARY_SW_QUAD_XY 458671.133 4663562.205 *
RMSE_XY 10.00 *
IMAGE_SOURCE "BLACK & WHITE FILM" *
SOURCE_IMAGE_ID "NAPP 12276-146" *
SOURCE_IMAGE_DATE 2000 8 6 *
SOURCE_IMAGE_ID "NAPP 12250-234" *
SOURCE_IMAGE_DATE 2000 7 24 *
SOURCE_IMAGE_ID "NAPP 12250-236" *
SOURCE_IMAGE_DATE 2000 7 24 *
SOURCE_IMAGE_ID "NAPP 12276-148" *
SOURCE_IMAGE_DATE 2000 8 6 *
SOURCE_DEM_DATE 1999 1 1 *
AGENCY "WESTERN MAPPING CENTER (WMC)" *
PRODUCER "USDA FS REGION 6" *
PRODUCTION_SYSTEM "PIXMAP V1.0 ON I386 LINUX" *
STANDARD_VERSION 1996 12 *
METADATA_DATE 2002 12 3 *
DATA_FILE_SIZE 159790335 *
BYTE_COUNT 10995 * CONTRACTOR "PIXXURES, INC." * * * * * * * * * * * * * * * * * * * * * * * * * * * * * * * * * * * * * * * * * * * * * * * * * * * * * * * * * * * * * * * * * * * * * * * * * * * * * * * * * * * * * * * * *
END_USGS_HEADER *
