BEGIN_USGS_DOQ_HEADER *
QUADRANGLE_NAME "FOURTH OF JULY CREEK" *
WEST_LONGITUDE -124 7 30.000 *
EAST_LONGITUDE -124 0 0.000 *
NORTH_LATITUDE 42 7 30.000 *
SOUTH_LATITUDE 42 0 0.000 *
PRODUCTION_DATE 2003 11 21 *
RASTER_ORDER LEFT_RIGHT/TOP_BOTTOM *
BAND_ORGANIZATION BIP *
BAND_CONTENT RED *
BAND_CONTENT GREEN *
BAND_CONTENT BLUE *
BITS_PER_PIXEL 8 *
SAMPLES_AND_LINES 11013 14424 *
HORIZONTAL_DATUM "NAD83" *
HORIZONTAL_COORDINATE_SYSTEM UTM *
COORDINATE_ZONE 10 *
HORIZONTAL_UNITS METERS *
HORIZONTAL_RESOLUTION 1.00 *
SECONDARY_HORIZONTAL_DATUM "NAD27" *
XY_ORIGIN 406531.500 4664466.500 *
SECONDARY_XY_ORIGIN 406628.093 4664270.159 *
NATION US *
STATE OR *
NW_QUAD_CORNER_XY 407012.130 4664267.357 *
NE_QUAD_CORNER_XY 417344.230 4664138.827 *
SE_QUAD_CORNER_XY 417181.931 4650259.848 *
SW_QUAD_CORNER_XY 406829.538 4650388.320 *
SECONDARY_NW_QUAD_XY 407009.560 4664053.636 *
SECONDARY_NE_QUAD_XY 417341.945 4663925.102 *
SECONDARY_SE_QUAD_XY 417179.648 4650046.314 *
SECONDARY_SW_QUAD_XY 406826.970 4650174.790 *
RMSE_XY 3.89 *
IMAGE_SOURCE "NATURAL COLOR FILM" *
SOURCE_IMAGE_ID "616110D 103 165" *
SOURCE_IMAGE_DATE 2003 8 18 *
SOURCE_IMAGE_ID "616110D 103 130" *
SOURCE_IMAGE_DATE 2003 8 18 *
SOURCE_IMAGE_ID "616110D 103 032" *
SOURCE_IMAGE_DATE 2003 8 18 *
SOURCE_IMAGE_ID "616110D 103 128" *
SOURCE_IMAGE_DATE 2003 8 18 *
SOURCE_IMAGE_ID "616110D 103 167" *
SOURCE_IMAGE_DATE 2003 8 18 *
SOURCE_DEM_DATE 2000 1 1 *
AGENCY "WESTERN MAPPING CENTER (WMC)" *
PRODUCER "USDA FS REGION 6" *
PRODUCTION_SYSTEM "INTERGRAPH MODEL_SETUP, BASE_RECTIFIER" *
STANDARD_VERSION 1996 12 *
METADATA_DATE 2004 1 13 *
DATA_FILE_SIZE 476587575 *
BYTE_COUNT 33039 * CONTRACTOR "SPENCER B. GROSS, INC." * * * * * * * * * * * * * * * * * * * * * * * * * * * * * * * * * * * * * * * * * * * * * * * * * * * * * * * * * * * * * * * * * * * * * * * * * * * * * * * * * * * * * * * * * * * * * * * * * * * * * * * * * * * * * * * * * * * * * * * * * * * * * * * * * * * * * * * * * * * * * * * * * * * * * * * * * * * * * * * * * * * * * * * * * * * * * * * * * * * * * * * * * * * * * * * * * * * * * * * * * * * * * * * * * * * * * * * * * * * * * * * * * * * * * * * * * * * * * * * * * * * * * * * * * * * * * * * * * * * * * * * * * * * * * * * * * * * * * * * * * * * * * * * * * * * * * * * * * * * * * * * * * * * * * * * * * * * * * * * * * * * * * * * * * * * * * * * * * * * * * * * * * * * * * * * * * * * * * * * *
END_USGS_HEADER *
