BEGIN_USGS_DOQ_HEADER *
QUADRANGLE_NAME "BOSLEY BUTTE" *
WEST_LONGITUDE -124 15 0.000 *
EAST_LONGITUDE -124 7 30.000 *
NORTH_LATITUDE 42 15 0.000 *
SOUTH_LATITUDE 42 7 30.000 *
PRODUCTION_DATE 2002 3 6 *
RASTER_ORDER LEFT_RIGHT/TOP_BOTTOM *
BAND_ORGANIZATION "SINGLE FILE" *
BAND_CONTENT BLACK&WHITE *
BITS_PER_PIXEL 8 *
SAMPLES_AND_LINES 11117 14624 *
HORIZONTAL_DATUM "NAD83" *
HORIZONTAL_COORDINATE_SYSTEM UTM *
COORDINATE_ZONE 10 *
HORIZONTAL_UNITS METERS *
HORIZONTAL_RESOLUTION 1.00 *
SECONDARY_HORIZONTAL_DATUM "NAD27" *
XY_ORIGIN 396379.500 4678590.500 *
SECONDARY_XY_ORIGIN 396476.339 4678394.051 *
NATION US *
STATE OR *
NW_QUAD_CORNER_XY 396883.367 4678290.406 *
NE_QUAD_CORNER_XY 407195.167 4678146.687 *
SE_QUAD_CORNER_XY 407012.130 4664267.357 *
SW_QUAD_CORNER_XY 396679.986 4664411.014 *
SECONDARY_NW_QUAD_XY 396880.508 4678076.502 *
SECONDARY_NE_QUAD_XY 407192.594 4677932.778 *
SECONDARY_SE_QUAD_XY 407009.560 4664053.636 *
SECONDARY_SW_QUAD_XY 396677.130 4664197.297 *
RMSE_XY 10.00 *
IMAGE_SOURCE "BLACK & WHITE FILM" *
SOURCE_IMAGE_ID "NAPP 12257-239" *
SOURCE_IMAGE_DATE 2000 7 27 *
SOURCE_IMAGE_ID "NAPP 12286-110" *
SOURCE_IMAGE_DATE 2000 8 14 *
SOURCE_IMAGE_ID "NAPP 12286-108" *
SOURCE_IMAGE_DATE 2000 8 14 *
SOURCE_IMAGE_ID "NAPP 12257-241" *
SOURCE_IMAGE_DATE 2000 7 27 *
SOURCE_DEM_DATE 1999 1 1 *
AGENCY "WESTERN MAPPING CENTER (WMC)" *
PRODUCER "USDA FS REGION 6" *
PRODUCTION_SYSTEM "PIXMAP V1.0 ON I386 LINUX" *
STANDARD_VERSION 1996 12 *
METADATA_DATE 2002 11 20 *
DATA_FILE_SIZE 162586125 *
BYTE_COUNT 11117 * CONTRACTOR "PIXXURES, INC." * * * * * * * * * * * * * * * * * * * * * * * * * * * * * * * * * * * * * * * * * * * * * * * * * * * * * * * * * * * * * * * * * * * * * * * * * * * * * * * * * * * * * * * * * *
END_USGS_HEADER *
