BEGIN_USGS_DOQ_HEADER *
QUADRANGLE_NAME "PICACHO" *
QUADRANT SW *
NORTH_LATITUDE 33 03 45.000 *
WEST_LONGITUDE -114 37 30.000 *
SOUTH_LATITUDE 33 00 00.000 *
EAST_LONGITUDE -114 33 45.000 *
PRODUCTION_DATE 1998 02 11 *
RASTER_ORDER LEFT_RIGHT/TOP_BOTTOM *
BAND_ORGANIZATION BIP *
BAND_CONTENT RED *
BAND_CONTENT GREEN *
BAND_CONTENT BLUE *
BITS_PER_PIXEL 8 *
SAMPLES_AND_LINES 6690 7680 *
HORIZONTAL_DATUM NAD83 *
HORIZONTAL_COORDINATE_SYSTEM UTM *
COORDINATE_ZONE 11 *
HORIZONTAL_UNITS METERS *
HORIZONTAL_RESOLUTION 1.000 *
SECONDARY_HORIZONTAL_DATUM NAD27 *
XY_ORIGIN 721350.000 3661170.000 *
SECONDARY_XY_ORIGIN 721428.563 3660976.053 *
NATION US *
STATE AZ *
STATE CA *
NW_QUAD_CORNER_XY 721731.949 3660723.735 *
NE_QUAD_CORNER_XY 727568.418 3660857.538 *
SE_QUAD_CORNER_XY 727729.252 3653926.183 *
SW_QUAD_CORNER_XY 721888.652 3653792.511 *
SECONDARY_NW_QUAD_XY 721736.820 3660532.441 *
SECONDARY_NE_QUAD_XY 727573.417 3660666.246 *
SECONDARY_SE_QUAD_XY 727734.246 3653735.104 *
SECONDARY_SW_QUAD_XY 721893.518 3653601.429 *
RMSE_XY 2.207 *
IMAGE_SOURCE "CIR FILM" *
SOURCE_IMAGE_ID "NAPP 9574 49 " *
SOURCE_IMAGE_DATE 1996 09 28 *
SOURCE_DEM_DATE 1997 01 01 *
AGENCY "WESTERN MAPPING CENTER (WMC)" *
PRODUCER "ANALYTICAL SURVEYS INC." *
PRODUCTION_SYSTEM "ORBIT OR_RECTIFY V.5.2" *
STANDARD_VERSION 1996 12 *
METADATA_DATE 1998 02 11 *
DATA_FILE_SIZE 154157670 *
BYTE_COUNT 20070 * * * * * * * * * * * * * * * * * * * * * * * * * * * * * * * * * * * * * * * * * * * * * * * * * * * * * * * * * * * * * * * * * * * * * * * * * * * * * * * * * * * * * * * * * * * * * * * * * * * * * * * * * * * * * * * * * * * * * * * * * * * * * * * * * * * * * * * * * * * * * * * * * * * * * * * * * * * * * * * * * * * * * * * * * * * * * * * * * * * * * * * * * * * * * * * * * * * * * * * * * * * * *
END_USGS_HEADER *
