BEGIN_USGS_DOQ_HEADER *
QUADRANGLE_NAME "CIBOLA" *
QUADRANT SW *
NORTH_LATITUDE 33 18 45.000 *
WEST_LONGITUDE -114 45 00.000 *
SOUTH_LATITUDE 33 15 00.000 *
EAST_LONGITUDE -114 41 15.000 *
PRODUCTION_DATE 1998 02 03 *
RASTER_ORDER LEFT_RIGHT/TOP_BOTTOM *
BAND_ORGANIZATION BIP *
BAND_CONTENT RED *
BAND_CONTENT GREEN *
BAND_CONTENT BLUE *
BITS_PER_PIXEL 8 *
SAMPLES_AND_LINES 6660 7710 *
HORIZONTAL_DATUM NAD83 *
HORIZONTAL_COORDINATE_SYSTEM UTM *
COORDINATE_ZONE 11 *
HORIZONTAL_UNITS METERS *
HORIZONTAL_RESOLUTION 1.000 *
SECONDARY_HORIZONTAL_DATUM NAD27 *
XY_ORIGIN 709080.000 3688650.000 *
SECONDARY_XY_ORIGIN 709158.561 3688455.817 *
NATION US *
STATE CA *
STATE AZ *
NW_QUAD_CORNER_XY 709463.069 3688191.066 *
NE_QUAD_CORNER_XY 715282.734 3688318.391 *
SE_QUAD_CORNER_XY 715436.332 3681387.059 *
SW_QUAD_CORNER_XY 709612.510 3681259.855 *
SECONDARY_NW_QUAD_XY 709467.701 3687998.922 *
SECONDARY_NE_QUAD_XY 715287.495 3688126.250 *
SECONDARY_SE_QUAD_XY 715441.089 3681195.128 *
SECONDARY_SW_QUAD_XY 709617.137 3681067.921 *
RMSE_XY 3.068 *
IMAGE_SOURCE "CIR FILM" *
SOURCE_IMAGE_ID "NAPP 9562 34" *
SOURCE_IMAGE_DATE 1996 06 15 *
SOURCE_IMAGE_ID "NAPP 9562 32" *
SOURCE_IMAGE_DATE 1996 06 15 *
SOURCE_DEM_DATE 1997 01 01 *
AGENCY "WESTERN MAPPING CENTER (WMC)" *
PRODUCER "ANALYTICAL SURVEYS INC." *
PRODUCTION_SYSTEM "ORBIT OR_RECTIFY V.5.2" *
STANDARD_VERSION 1996 12 *
METADATA_DATE 1998 02 04 *
DATA_FILE_SIZE 154065780 *
BYTE_COUNT 19980 * * * * * * * * * * * * * * * * * * * * * * * * * * * * * * * * * * * * * * * * * * * * * * * * * * * * * * * * * * * * * * * * * * * * * * * * * * * * * * * * * * * * * * * * * * * * * * * * * * * * * * * * * * * * * * * * * * * * * * * * * * * * * * * * * * * * * * * * * * * * * * * * * * * * * * * * * * * * * * * * * * * * * * * * * * * * * * * * * * * * * * * * * * * * * * * * * * * * * * * * * *
END_USGS_HEADER *
