BEGIN_USGS_DOQ_HEADER *
QUADRANGLE_NAME "TRIGO PASS" *
QUADRANT NE *
NORTH_LATITUDE 33 30 00.000 *
WEST_LONGITUDE -114 18 45.000 *
SOUTH_LATITUDE 33 26 15.000 *
EAST_LONGITUDE -114 15 00.000 *
PRODUCTION_DATE 1998 02 13 *
RASTER_ORDER LEFT_RIGHT/TOP_BOTTOM *
BAND_ORGANIZATION BIP *
BAND_CONTENT RED *
BAND_CONTENT GREEN *
BAND_CONTENT BLUE *
BITS_PER_PIXEL 8 *
SAMPLES_AND_LINES 6690 7710 *
HORIZONTAL_DATUM NAD83 *
HORIZONTAL_COORDINATE_SYSTEM UTM *
COORDINATE_ZONE 11 *
HORIZONTAL_UNITS METERS *
HORIZONTAL_RESOLUTION 1.000 *
SECONDARY_HORIZONTAL_DATUM NAD27 *
XY_ORIGIN 749280.000 3710430.000 *
SECONDARY_XY_ORIGIN 749358.174 3710235.988 *
NATION US *
STATE AZ *
NW_QUAD_CORNER_XY 749665.496 3709952.447 *
NE_QUAD_CORNER_XY 755473.405 3710104.672 *
SE_QUAD_CORNER_XY 755657.044 3703172.242 *
SW_QUAD_CORNER_XY 749844.951 3703020.159 *
SECONDARY_NW_QUAD_XY 749671.046 3709759.700 *
SECONDARY_NE_QUAD_XY 755479.085 3709911.928 *
SECONDARY_SE_QUAD_XY 755662.718 3702979.706 *
SECONDARY_SW_QUAD_XY 749850.496 3702827.619 *
RMSE_XY 1.977 *
IMAGE_SOURCE "CIR FILM" *
SOURCE_IMAGE_ID "NAPP 9560 168" *
SOURCE_IMAGE_DATE 1996 06 09 *
SOURCE_DEM_DATE 1986 01 01 *
AGENCY "WESTERN MAPPING CENTER (WMC)" *
PRODUCER "ANALYTICAL SURVEYS INC." *
PRODUCTION_SYSTEM "ORBIT OR_RECTIFY V.5.2" *
STANDARD_VERSION 1996 12 *
METADATA_DATE 1998 02 13 *
DATA_FILE_SIZE 154759770 *
BYTE_COUNT 20070 * * * * * * * * * * * * * * * * * * * * * * * * * * * * * * * * * * * * * * * * * * * * * * * * * * * * * * * * * * * * * * * * * * * * * * * * * * * * * * * * * * * * * * * * * * * * * * * * * * * * * * * * * * * * * * * * * * * * * * * * * * * * * * * * * * * * * * * * * * * * * * * * * * * * * * * * * * * * * * * * * * * * * * * * * * * * * * * * * * * * * * * * * * * * * * * * * * * * * * * * * * * * * *
END_USGS_HEADER *
