BEGIN_USGS_DOQ_HEADER *
QUADRANGLE_NAME "THUMB PEAK" *
QUADRANT SE *
NORTH_LATITUDE 33 26 15.000 *
WEST_LONGITUDE -114 48 45.000 *
SOUTH_LATITUDE 33 22 30.000 *
EAST_LONGITUDE -114 45 00.000 *
PRODUCTION_DATE 1998 01 30 *
RASTER_ORDER LEFT_RIGHT/TOP_BOTTOM *
BAND_ORGANIZATION BIP *
BAND_CONTENT RED *
BAND_CONTENT GREEN *
BAND_CONTENT BLUE *
BITS_PER_PIXEL 8 *
SAMPLES_AND_LINES 6660 7680 *
HORIZONTAL_DATUM NAD83 *
HORIZONTAL_COORDINATE_SYSTEM UTM *
COORDINATE_ZONE 11 *
HORIZONTAL_UNITS METERS *
HORIZONTAL_RESOLUTION 1.000 *
SECONDARY_HORIZONTAL_DATUM NAD27 *
XY_ORIGIN 702960.000 3702360.000 *
SECONDARY_XY_ORIGIN 703038.513 3702165.784 *
NATION US *
STATE CA *
NW_QUAD_CORNER_XY 703352.211 3701929.601 *
NE_QUAD_CORNER_XY 709163.439 3702053.665 *
SE_QUAD_CORNER_XY 709313.379 3695122.336 *
SW_QUAD_CORNER_XY 703497.979 3694998.388 *
SECONDARY_NW_QUAD_XY 703356.723 3701737.037 *
SECONDARY_NE_QUAD_XY 709168.081 3701861.104 *
SECONDARY_SE_QUAD_XY 709318.016 3694929.983 *
SECONDARY_SW_QUAD_XY 703502.487 3694806.032 *
RMSE_XY 1.875 *
IMAGE_SOURCE "CIR FILM" *
SOURCE_IMAGE_ID "NAPP 9562 95" *
SOURCE_IMAGE_DATE 1996 06 15 *
SOURCE_DEM_DATE 1983 01 01 *
AGENCY "WESTERN MAPPING CENTER (WMC)" *
PRODUCER "ANALYTICAL SURVEYS INC." *
PRODUCTION_SYSTEM "ORBIT OR_RECTIFY V.5.2" *
STANDARD_VERSION 1996 12 *
METADATA_DATE 1998 02 02 *
DATA_FILE_SIZE 153466380 *
BYTE_COUNT 19980 * * * * * * * * * * * * * * * * * * * * * * * * * * * * * * * * * * * * * * * * * * * * * * * * * * * * * * * * * * * * * * * * * * * * * * * * * * * * * * * * * * * * * * * * * * * * * * * * * * * * * * * * * * * * * * * * * * * * * * * * * * * * * * * * * * * * * * * * * * * * * * * * * * * * * * * * * * * * * * * * * * * * * * * * * * * * * * * * * * * * * * * * * * * * * * * * * * * * * * * * * * * * *
END_USGS_HEADER *
