BEGIN_USGS_DOQ_HEADER *
QUADRANGLE_NAME "WILEY WELL" *
QUADRANT NW *
NORTH_LATITUDE 33 30 00.000 *
WEST_LONGITUDE -115 00 00.000 *
SOUTH_LATITUDE 33 26 15.000 *
EAST_LONGITUDE -114 56 15.000 *
PRODUCTION_DATE 1998 01 26 *
RASTER_ORDER LEFT_RIGHT/TOP_BOTTOM *
BAND_ORGANIZATION BIP *
BAND_CONTENT RED *
BAND_CONTENT GREEN *
BAND_CONTENT BLUE *
BITS_PER_PIXEL 8 *
SAMPLES_AND_LINES 6630 7680 *
HORIZONTAL_DATUM NAD83 *
HORIZONTAL_COORDINATE_SYSTEM UTM *
COORDINATE_ZONE 11 *
HORIZONTAL_UNITS METERS *
HORIZONTAL_RESOLUTION 1.000 *
SECONDARY_HORIZONTAL_DATUM NAD27 *
XY_ORIGIN 685410.000 3708930.000 *
SECONDARY_XY_ORIGIN 685488.624 3708735.686 *
NATION US *
STATE CA *
NW_QUAD_CORNER_XY 685785.610 3708509.354 *
NE_QUAD_CORNER_XY 691592.383 3708623.025 *
SE_QUAD_CORNER_XY 691730.038 3701691.973 *
SW_QUAD_CORNER_XY 685919.088 3701578.408 *
SECONDARY_NW_QUAD_XY 685789.739 3708316.575 *
SECONDARY_NE_QUAD_XY 691596.641 3708430.248 *
SECONDARY_SE_QUAD_XY 691734.292 3701499.404 *
SECONDARY_SW_QUAD_XY 685923.213 3701385.836 *
RMSE_XY 1.475 *
IMAGE_SOURCE "CIR FILM" *
SOURCE_IMAGE_ID "NAPP 9563 25" *
SOURCE_IMAGE_DATE 1996 06 15 *
SOURCE_IMAGE_ID "NAPP 9563 24" *
SOURCE_IMAGE_DATE 1996 06 15 *
SOURCE_DEM_DATE 1983 01 01 *
AGENCY "WESTERN MAPPING CENTER (WMC)" *
PRODUCER "ANALYTICAL SURVEYS INC." *
PRODUCTION_SYSTEM "ORBIT OR_RECTIFY V.5.2" *
STANDARD_VERSION 1996 12 *
METADATA_DATE 1998 01 27 *
DATA_FILE_SIZE 152775090 *
BYTE_COUNT 19890 * * * * * * * * * * * * * * * * * * * * * * * * * * * * * * * * * * * * * * * * * * * * * * * * * * * * * * * * * * * * * * * * * * * * * * * * * * * * * * * * * * * * * * * * * * * * * * * * * * * * * * * * * * * * * * * * * * * * * * * * * * * * * * * * * * * * * * * * * * * * * * * * * * * * * * * * * * * * * * * * * * * * * * * * * * * * * * * * * * * * * * * * * * * * * * * * * * * * * * * * * *
END_USGS_HEADER *
