BEGIN_USGS_DOQ_HEADER *
QUADRANGLE_NAME "DOME ROCK MOUNTAINS SW" *
QUADRANT NW *
NORTH_LATITUDE 33 37 30.000 *
WEST_LONGITUDE -114 30 00.000 *
SOUTH_LATITUDE 33 33 45.000 *
EAST_LONGITUDE -114 26 15.000 *
PRODUCTION_DATE 1998 02 10 *
RASTER_ORDER LEFT_RIGHT/TOP_BOTTOM *
BAND_ORGANIZATION BIP *
BAND_CONTENT RED *
BAND_CONTENT GREEN *
BAND_CONTENT BLUE *
BITS_PER_PIXEL 8 *
SAMPLES_AND_LINES 6660 7710 *
HORIZONTAL_DATUM NAD83 *
HORIZONTAL_COORDINATE_SYSTEM UTM *
COORDINATE_ZONE 11 *
HORIZONTAL_UNITS METERS *
HORIZONTAL_RESOLUTION 1.000 *
SECONDARY_HORIZONTAL_DATUM NAD27 *
XY_ORIGIN 731520.000 3723840.000 *
SECONDARY_XY_ORIGIN 731598.295 3723645.911 *
NATION US *
STATE AZ *
NW_QUAD_CORNER_XY 731907.811 3723380.752 *
NE_QUAD_CORNER_XY 737706.994 3723522.717 *
SE_QUAD_CORNER_XY 737878.651 3716590.590 *
SW_QUAD_CORNER_XY 732075.273 3716448.755 *
SECONDARY_NW_QUAD_XY 731912.984 3723187.583 *
SECONDARY_NE_QUAD_XY 737712.296 3723329.551 *
SECONDARY_SE_QUAD_XY 737883.948 3716397.630 *
SECONDARY_SW_QUAD_XY 732080.441 3716255.792 *
RMSE_XY 1.478 *
IMAGE_SOURCE "CIR FILM" *
SOURCE_IMAGE_ID "NAPP 9561 56" *
SOURCE_IMAGE_DATE 1996 06 09 *
SOURCE_DEM_DATE 1971 01 01 *
AGENCY "WESTERN MAPPING CENTER (WMC)" *
PRODUCER "ANALYTICAL SURVEYS INC." *
PRODUCTION_SYSTEM "ORBIT OR_RECTIFY V.5.2" *
STANDARD_VERSION 1996 12 *
METADATA_DATE 1998 02 11 *
DATA_FILE_SIZE 154065780 *
BYTE_COUNT 19980 * * * * * * * * * * * * * * * * * * * * * * * * * * * * * * * * * * * * * * * * * * * * * * * * * * * * * * * * * * * * * * * * * * * * * * * * * * * * * * * * * * * * * * * * * * * * * * * * * * * * * * * * * * * * * * * * * * * * * * * * * * * * * * * * * * * * * * * * * * * * * * * * * * * * * * * * * * * * * * * * * * * * * * * * * * * * * * * * * * * * * * * * * * * * * * * * * * * * * * * * * * * * *
END_USGS_HEADER *
