BEGIN_USGS_DOQ_HEADER *
QUADRANGLE_NAME "ROOSEVELT MINE" *
QUADRANT SE *
NORTH_LATITUDE 33 33 45.000 *
WEST_LONGITUDE -114 48 45.000 *
SOUTH_LATITUDE 33 30 00.000 *
EAST_LONGITUDE -114 45 00.000 *
PRODUCTION_DATE 1998 01 30 *
RASTER_ORDER LEFT_RIGHT/TOP_BOTTOM *
BAND_ORGANIZATION BIP *
BAND_CONTENT RED *
BAND_CONTENT GREEN *
BAND_CONTENT BLUE *
BITS_PER_PIXEL 8 *
SAMPLES_AND_LINES 6660 7680 *
HORIZONTAL_DATUM NAD83 *
HORIZONTAL_COORDINATE_SYSTEM UTM *
COORDINATE_ZONE 11 *
HORIZONTAL_UNITS METERS *
HORIZONTAL_RESOLUTION 1.000 *
SECONDARY_HORIZONTAL_DATUM NAD27 *
XY_ORIGIN 702660.000 3716220.000 *
SECONDARY_XY_ORIGIN 702738.481 3716025.765 *
NATION US *
STATE CA *
NW_QUAD_CORNER_XY 703059.948 3715792.207 *
NE_QUAD_CORNER_XY 708862.813 3715916.501 *
SE_QUAD_CORNER_XY 709013.251 3708985.054 *
SW_QUAD_CORNER_XY 703206.201 3708860.874 *
SECONDARY_NW_QUAD_XY 703064.469 3715599.229 *
SECONDARY_NE_QUAD_XY 708867.464 3715723.526 *
SECONDARY_SE_QUAD_XY 709017.897 3708792.285 *
SECONDARY_SW_QUAD_XY 703210.717 3708668.103 *
RMSE_XY 2.547 *
IMAGE_SOURCE "CIR FILM" *
SOURCE_IMAGE_ID "NAPP 9562 99" *
SOURCE_IMAGE_DATE 1996 06 15 *
SOURCE_DEM_DATE 1983 01 01 *
AGENCY "WESTERN MAPPING CENTER (WMC)" *
PRODUCER "ANALYTICAL SURVEYS INC." *
PRODUCTION_SYSTEM "ORBIT OR_RECTIFY V.5.2" *
STANDARD_VERSION 1996 12 *
METADATA_DATE 1998 01 30 *
DATA_FILE_SIZE 153466380 *
BYTE_COUNT 19980 * * * * * * * * * * * * * * * * * * * * * * * * * * * * * * * * * * * * * * * * * * * * * * * * * * * * * * * * * * * * * * * * * * * * * * * * * * * * * * * * * * * * * * * * * * * * * * * * * * * * * * * * * * * * * * * * * * * * * * * * * * * * * * * * * * * * * * * * * * * * * * * * * * * * * * * * * * * * * * * * * * * * * * * * * * * * * * * * * * * * * * * * * * * * * * * * * * * * * * * * * * * * *
END_USGS_HEADER *
