BEGIN_USGS_DOQ_HEADER *
QUADRANGLE_NAME "QUARTZSITE" *
QUADRANT NW *
NORTH_LATITUDE 33 45 00.000 *
WEST_LONGITUDE -114 15 00.000 *
SOUTH_LATITUDE 33 41 15.000 *
EAST_LONGITUDE -114 11 15.000 *
PRODUCTION_DATE 1998 02 09 *
RASTER_ORDER LEFT_RIGHT/TOP_BOTTOM *
BAND_ORGANIZATION BIP *
BAND_CONTENT RED *
BAND_CONTENT GREEN *
BAND_CONTENT BLUE *
BITS_PER_PIXEL 8 *
SAMPLES_AND_LINES 6690 7710 *
HORIZONTAL_DATUM NAD83 *
HORIZONTAL_COORDINATE_SYSTEM UTM *
COORDINATE_ZONE 11 *
HORIZONTAL_UNITS METERS *
HORIZONTAL_RESOLUTION 1.000 *
SECONDARY_HORIZONTAL_DATUM NAD27 *
XY_ORIGIN 754350.000 3738300.000 *
SECONDARY_XY_ORIGIN 754428.467 3738105.909 *
NATION US *
STATE AZ *
NW_QUAD_CORNER_XY 754735.810 3737834.929 *
NE_QUAD_CORNER_XY 760527.033 3737991.234 *
SE_QUAD_CORNER_XY 760716.099 3731058.446 *
SW_QUAD_CORNER_XY 754920.664 3730902.284 *
SECONDARY_NW_QUAD_XY 754741.511 3737641.364 *
SECONDARY_NE_QUAD_XY 760532.864 3737797.672 *
SECONDARY_SE_QUAD_XY 760721.925 3730865.089 *
SECONDARY_SW_QUAD_XY 754926.360 3730708.923 *
RMSE_XY 1.660 *
IMAGE_SOURCE "CIR FILM" *
SOURCE_IMAGE_ID "NAPP 9556 112" *
SOURCE_IMAGE_DATE 1996 06 07 *
SOURCE_DEM_DATE 1997 01 01 *
AGENCY "WESTERN MAPPING CENTER (WMC)" *
PRODUCER "ANALYTICAL SURVEYS INC." *
PRODUCTION_SYSTEM "ORBIT OR_RECTIFY V.5.2" *
STANDARD_VERSION 1996 12 *
METADATA_DATE 1998 02 09 *
DATA_FILE_SIZE 154759770 *
BYTE_COUNT 20070 * * * * * * * * * * * * * * * * * * * * * * * * * * * * * * * * * * * * * * * * * * * * * * * * * * * * * * * * * * * * * * * * * * * * * * * * * * * * * * * * * * * * * * * * * * * * * * * * * * * * * * * * * * * * * * * * * * * * * * * * * * * * * * * * * * * * * * * * * * * * * * * * * * * * * * * * * * * * * * * * * * * * * * * * * * * * * * * * * * * * * * * * * * * * * * * * * * * * * * * * * * * * * *
END_USGS_HEADER *
