BEGIN_USGS_DOQ_HEADER *
QUADRANGLE_NAME "MCCOY SPRING" *
QUADRANT SW *
NORTH_LATITUDE 33 41 15.000 *
WEST_LONGITUDE -115 00 00.000 *
SOUTH_LATITUDE 33 37 30.000 *
EAST_LONGITUDE -114 56 15.000 *
PRODUCTION_DATE 1998 01 26 *
RASTER_ORDER LEFT_RIGHT/TOP_BOTTOM *
BAND_ORGANIZATION BIP *
BAND_CONTENT RED *
BAND_CONTENT GREEN *
BAND_CONTENT BLUE *
BITS_PER_PIXEL 8 *
SAMPLES_AND_LINES 6630 7650 *
HORIZONTAL_DATUM NAD83 *
HORIZONTAL_COORDINATE_SYSTEM UTM *
COORDINATE_ZONE 11 *
HORIZONTAL_UNITS METERS *
HORIZONTAL_RESOLUTION 1.000 *
SECONDARY_HORIZONTAL_DATUM NAD27 *
XY_ORIGIN 684990.000 3729720.000 *
SECONDARY_XY_ORIGIN 685068.643 3729525.670 *
NATION US *
STATE CA *
NW_QUAD_CORNER_XY 685383.849 3729302.561 *
NE_QUAD_CORNER_XY 691178.050 3729416.545 *
SE_QUAD_CORNER_XY 691316.389 3722485.311 *
SW_QUAD_CORNER_XY 685517.990 3722371.430 *
SECONDARY_NW_QUAD_XY 685387.990 3729109.164 *
SECONDARY_NE_QUAD_XY 691182.320 3729223.152 *
SECONDARY_SE_QUAD_XY 691320.655 3722292.122 *
SECONDARY_SW_QUAD_XY 685522.127 3722178.239 *
RMSE_XY 1.098 *
IMAGE_SOURCE "CIR FILM" *
SOURCE_IMAGE_ID "NAPP 9563 19" *
SOURCE_IMAGE_DATE 1996 06 15 *
SOURCE_DEM_DATE 1983 01 01 *
AGENCY "WESTERN MAPPING CENTER (WMC)" *
PRODUCER "ANALYTICAL SURVEYS INC." *
PRODUCTION_SYSTEM "ORBIT OR_RECTIFY V.5.2" *
STANDARD_VERSION 1996 12 *
METADATA_DATE 1998 01 26 *
DATA_FILE_SIZE 152178390 *
BYTE_COUNT 19890 * * * * * * * * * * * * * * * * * * * * * * * * * * * * * * * * * * * * * * * * * * * * * * * * * * * * * * * * * * * * * * * * * * * * * * * * * * * * * * * * * * * * * * * * * * * * * * * * * * * * * * * * * * * * * * * * * * * * * * * * * * * * * * * * * * * * * * * * * * * * * * * * * * * * * * * * * * * * * * * * * * * * * * * * * * * * * * * * * * * * * * * * * * * * * * * * * * * * * * * * * * * *
END_USGS_HEADER *
