BEGIN_USGS_DOQ_HEADER *
QUADRANGLE_NAME "MOON MOUNTAIN" *
QUADRANT SE *
NORTH_LATITUDE 33 48 45.000 *
WEST_LONGITUDE -114 26 15.000 *
SOUTH_LATITUDE 33 45 00.000 *
EAST_LONGITUDE -114 22 30.000 *
PRODUCTION_DATE 1998 02 06 *
RASTER_ORDER LEFT_RIGHT/TOP_BOTTOM *
BAND_ORGANIZATION BIP *
BAND_CONTENT RED *
BAND_CONTENT GREEN *
BAND_CONTENT BLUE *
BITS_PER_PIXEL 8 *
SAMPLES_AND_LINES 6660 7710 *
HORIZONTAL_DATUM NAD83 *
HORIZONTAL_COORDINATE_SYSTEM UTM *
COORDINATE_ZONE 11 *
HORIZONTAL_UNITS METERS *
HORIZONTAL_RESOLUTION 1.000 *
SECONDARY_HORIZONTAL_DATUM NAD27 *
XY_ORIGIN 736800.000 3744780.000 *
SECONDARY_XY_ORIGIN 736878.300 3744585.780 *
NATION US *
STATE AZ *
NW_QUAD_CORNER_XY 737190.325 3744319.435 *
NE_QUAD_CORNER_XY 742976.989 3744465.310 *
SE_QUAD_CORNER_XY 743153.712 3737532.883 *
SW_QUAD_CORNER_XY 737362.831 3737387.139 *
SECONDARY_NW_QUAD_XY 737195.642 3744125.656 *
SECONDARY_NE_QUAD_XY 742982.436 3744271.535 *
SECONDARY_SE_QUAD_XY 743159.154 3737339.311 *
SECONDARY_SW_QUAD_XY 737368.143 3737193.564 *
RMSE_XY 2.892 *
IMAGE_SOURCE "CIR FILM" *
SOURCE_IMAGE_ID "NAPP 9556 208" *
SOURCE_IMAGE_DATE 1996 06 07 *
SOURCE_DEM_DATE 1997 01 01 *
AGENCY "WESTERN MAPPING CENTER (WMC)" *
PRODUCER "ANALYTICAL SURVEYS INC." *
PRODUCTION_SYSTEM "ORBIT OR_RECTIFY V.5.2" *
STANDARD_VERSION 1996 12 *
METADATA_DATE 1998 02 08 *
DATA_FILE_SIZE 154065780 *
BYTE_COUNT 19980 * * * * * * * * * * * * * * * * * * * * * * * * * * * * * * * * * * * * * * * * * * * * * * * * * * * * * * * * * * * * * * * * * * * * * * * * * * * * * * * * * * * * * * * * * * * * * * * * * * * * * * * * * * * * * * * * * * * * * * * * * * * * * * * * * * * * * * * * * * * * * * * * * * * * * * * * * * * * * * * * * * * * * * * * * * * * * * * * * * * * * * * * * * * * * * * * * * * * * * * * * * * * *
END_USGS_HEADER *
