BEGIN_USGS_DOQ_HEADER *
QUADRANGLE_NAME "BIG MARIA MOUNTAINS NE" *
QUADRANT NE *
NORTH_LATITUDE 34 00 00.000 *
WEST_LONGITUDE -114 33 45.000 *
SOUTH_LATITUDE 33 56 15.000 *
EAST_LONGITUDE -114 30 00.000 *
PRODUCTION_DATE 1998 02 11 *
RASTER_ORDER LEFT_RIGHT/TOP_BOTTOM *
BAND_ORGANIZATION BIP *
BAND_CONTENT RED *
BAND_CONTENT GREEN *
BAND_CONTENT BLUE *
BITS_PER_PIXEL 8 *
SAMPLES_AND_LINES 6630 7710 *
HORIZONTAL_DATUM NAD83 *
HORIZONTAL_COORDINATE_SYSTEM UTM *
COORDINATE_ZONE 11 *
HORIZONTAL_UNITS METERS *
HORIZONTAL_RESOLUTION 1.000 *
SECONDARY_HORIZONTAL_DATUM NAD27 *
XY_ORIGIN 724740.000 3765300.000 *
SECONDARY_XY_ORIGIN 724818.325 3765105.528 *
NATION US *
STATE CA *
STATE AZ *
NW_QUAD_CORNER_XY 725123.484 3764834.723 *
NE_QUAD_CORNER_XY 730897.246 3764973.926 *
SE_QUAD_CORNER_XY 731066.363 3758041.587 *
SW_QUAD_CORNER_XY 725288.364 3757902.508 *
SECONDARY_NW_QUAD_XY 725128.556 3764640.333 *
SECONDARY_NE_QUAD_XY 730902.448 3764779.538 *
SECONDARY_SE_QUAD_XY 731071.560 3757847.401 *
SECONDARY_SW_QUAD_XY 725293.431 3757708.319 *
RMSE_XY 1.345 *
IMAGE_SOURCE "CIR FILM" *
SOURCE_IMAGE_ID "NAPP 9557 99" *
SOURCE_IMAGE_DATE 1996 06 07 *
SOURCE_DEM_DATE 1975 01 01 *
AGENCY "WESTERN MAPPING CENTER (WMC)" *
PRODUCER "ANALYTICAL SURVEYS INC." *
PRODUCTION_SYSTEM "ORBIT OR_RECTIFY V.5.2" *
STANDARD_VERSION 1996 12 *
METADATA_DATE 1998 02 11 *
DATA_FILE_SIZE 153371790 *
BYTE_COUNT 19890 * * * * * * * * * * * * * * * * * * * * * * * * * * * * * * * * * * * * * * * * * * * * * * * * * * * * * * * * * * * * * * * * * * * * * * * * * * * * * * * * * * * * * * * * * * * * * * * * * * * * * * * * * * * * * * * * * * * * * * * * * * * * * * * * * * * * * * * * * * * * * * * * * * * * * * * * * * * * * * * * * * * * * * * * * * * * * * * * * * * * * * * * * * * * * * * * * * * * * * * * * * *
END_USGS_HEADER *
