BEGIN_USGS_DOQ_HEADER *
QUADRANGLE_NAME "BIG MARIA MOUNTAINS NE" *
QUADRANT NW *
NORTH_LATITUDE 34 00 00.000 *
WEST_LONGITUDE -114 37 30.000 *
SOUTH_LATITUDE 33 56 15.000 *
EAST_LONGITUDE -114 33 45.000 *
PRODUCTION_DATE 1998 02 11 *
RASTER_ORDER LEFT_RIGHT/TOP_BOTTOM *
BAND_ORGANIZATION BIP *
BAND_CONTENT RED *
BAND_CONTENT GREEN *
BAND_CONTENT BLUE *
BITS_PER_PIXEL 8 *
SAMPLES_AND_LINES 6660 7710 *
HORIZONTAL_DATUM NAD83 *
HORIZONTAL_COORDINATE_SYSTEM UTM *
COORDINATE_ZONE 11 *
HORIZONTAL_UNITS METERS *
HORIZONTAL_RESOLUTION 1.000 *
SECONDARY_HORIZONTAL_DATUM NAD27 *
XY_ORIGIN 718950.000 3765150.000 *
SECONDARY_XY_ORIGIN 719028.397 3764955.510 *
NATION US *
STATE CA *
NW_QUAD_CORNER_XY 719349.822 3764699.052 *
NE_QUAD_CORNER_XY 725123.484 3764834.723 *
SE_QUAD_CORNER_XY 725288.364 3757902.508 *
SW_QUAD_CORNER_XY 719510.467 3757766.957 *
SECONDARY_NW_QUAD_XY 719354.764 3764504.658 *
SECONDARY_NE_QUAD_XY 725128.556 3764640.333 *
SECONDARY_SE_QUAD_XY 725293.431 3757708.319 *
SECONDARY_SW_QUAD_XY 719515.404 3757572.765 *
RMSE_XY 1.651 *
IMAGE_SOURCE "CIR FILM" *
SOURCE_IMAGE_ID "NAPP 9557 167" *
SOURCE_IMAGE_DATE 1996 06 07 *
SOURCE_DEM_DATE 1975 01 01 *
AGENCY "WESTERN MAPPING CENTER (WMC)" *
PRODUCER "ANALYTICAL SURVEYS INC." *
PRODUCTION_SYSTEM "ORBIT OR_RECTIFY V.5.2" *
STANDARD_VERSION 1996 12 *
METADATA_DATE 1998 02 11 *
DATA_FILE_SIZE 154065780 *
BYTE_COUNT 19980 * * * * * * * * * * * * * * * * * * * * * * * * * * * * * * * * * * * * * * * * * * * * * * * * * * * * * * * * * * * * * * * * * * * * * * * * * * * * * * * * * * * * * * * * * * * * * * * * * * * * * * * * * * * * * * * * * * * * * * * * * * * * * * * * * * * * * * * * * * * * * * * * * * * * * * * * * * * * * * * * * * * * * * * * * * * * * * * * * * * * * * * * * * * * * * * * * * * * * * * * * * * * *
END_USGS_HEADER *
