BEGIN_USGS_DOQ_HEADER *
QUADRANGLE_NAME "BOUSE NW" 3.75 or 7.5-min. name*
QUADRANT SE quadrant indicator if cell size = 3.75-minutes*
WEST_LONGITUDE -114 11 15.000 signed deg min sec SDDD MM SS.SSS*
EAST_LONGITUDE -114 7 30.000 signed deg min sec SDDD MM SS.SSS*
NORTH_LATITUDE 33 56 15.000 signed deg min sec SDDD MM SS.SSS*
SOUTH_LATITUDE 33 52 30.000 signed deg min sec SDDD MM SS.SSS*
PRODUCTION_DATE 2001 4 13 yyyy mm dd*
RASTER_ORDER LEFT_RIGHT/TOP_BOTTOM video display order*
BAND_ORGANIZATION "SINGLE FILE" single file or BSQ, or BIL or BIP*
BAND_CONTENT BLACK&WHITE black&white or red green blue*
BITS_PER_PIXEL 8 radiometric resolution*
SAMPLES_AND_LINES 6648 7697 number of columns and rows*
HORIZONTAL_DATUM NAD83 primary horizontal datum*
HORIZONTAL_COORDINATE_SYSTEM UTM *
COORDINATE_ZONE 11 coordinate system zone number*
HORIZONTAL_UNITS METERS coordinate system units*
HORIZONTAL_RESOLUTION 1.00 pixel horiz. ground sample distance*
SECONDARY_HORIZONTAL_DATUM NAD27 secondary horizontal datum*
XY_ORIGIN 759585.000 3759252.000 coord. of upper left pixel pri. datum*
SECONDARY_XY_ORIGIN 759663.000 3759058.000 coord upper left pixel sec datum*
NATION US nation code*
STATE AZ state fip code*
NW_QUAD_CORNER_XY 759957.972 3758789.916 XY coords. of pri. NW quad corner*
NE_QUAD_CORNER_XY 765736.636 3758950.172 XY coords. of pri. NE quad corner*
SE_QUAD_CORNER_XY 765930.866 3752017.082 XY coords. of pri. SE quad corner*
SW_QUAD_CORNER_XY 760147.969 3751856.968 XY coords. of pri. SW quad corner*
SECONDARY_NW_QUAD_XY 759963.820 3758595.747 XY coords. - sec. NW quad cor.*
SECONDARY_NE_QUAD_XY 765742.614 3758756.007 XY coords. - sec. NE quad cor.*
SECONDARY_SE_QUAD_XY 765936.838 3751823.118 XY coords. - sec. SE quad cor.*
SECONDARY_SW_QUAD_XY 760153.811 3751663.001 XY coords. - sec. SW quad cor.*
RMSE_XY 1.80 doq horiz. accuracy*
IMAGE_SOURCE "BLACK AND WHITE FILM" b&w, cir, natural color, other*
SOURCE_IMAGE_ID "NAPP 9882 267" source image id*
SOURCE_IMAGE_DATE 1997 5 31 source image date as yyyy mm dd*
SOURCE_DEM_DATE 1951 0 0 source dem date yyyy mm dd*
AGENCY "ROCKY MOUNTAIN MAPPING CENTER (RMMC)" oversight agency*
PRODUCER "ROCKY MOUNTAIN MAPPING CENTER (RMMC)" *
PRODUCTION_SYSTEM "DV2.6.4 1/00 OV2.6 6/00" production system*
STANDARD_VERSION 1996 12 version of DOQ standard*
METADATA_DATE 2001 4 13 date created or changed, yyyy mm dd*
DATA_FILE_SIZE 51176304 data set size in bytes*
BYTE_COUNT 6648 header byte count* * * * * * * * * * * * * * * * * * * * * * * * * * * * * * * * * * * * * * * * *
END_USGS_HEADER *
