BEGIN_USGS_DOQ_HEADER *
QUADRANGLE_NAME "CASTANEDA HILLS" *
QUADRANT NE *
WEST_LONGITUDE -113 56 15.000 *
EAST_LONGITUDE -113 52 30.000 *
NORTH_LATITUDE 34 30 00.000 *
SOUTH_LATITUDE 34 26 15.000 *
PRODUCTION_DATE 2001 09 12 *
RASTER_ORDER LEFT_RIGHT/TOP_BOTTOM *
BAND_ORGANIZATION "SINGLE FILE" *
BAND_CONTENT BLACK&WHITE *
BITS_PER_PIXEL 8 *
SAMPLES_AND_LINES 6630 7710 *
HORIZONTAL_DATUM NAD83 *
HORIZONTAL_COORDINATE_SYSTEM UTM *
COORDINATE_ZONE 12 *
HORIZONTAL_UNITS METERS *
HORIZONTAL_RESOLUTION 1.000 *
SECONDARY_HORIZONTAL_DATUM NAD27 *
XY_ORIGIN 229710.000 3821820.000 *
SECONDARY_XY_ORIGIN 229775.091 3821620.436 *
NATION US *
STATE AZ *
NW_QUAD_CORNER_XY 230285.286 3821515.429 *
NE_QUAD_CORNER_XY 236025.655 3821350.364 *
SE_QUAD_CORNER_XY 235828.583 3814416.797 *
SW_QUAD_CORNER_XY 230083.919 3814581.723 *
SECONDARY_NW_QUAD_XY 230279.126 3821319.486 *
SECONDARY_NE_QUAD_XY 236019.626 3821154.417 *
SECONDARY_SE_QUAD_XY 235822.561 3814221.045 *
SECONDARY_SW_QUAD_XY 230077.765 3814385.975 *
RMSE_XY 0.970 *
IMAGE_SOURCE "BLACK AND WHITE FILM" *
SOURCE_IMAGE_ID "NAPP 9882 202" *
SOURCE_IMAGE_DATE 1997 05 31 *
SOURCE_IMAGE_ID "NAPP 9882 200" *
SOURCE_IMAGE_DATE 1997 05 31 *
SOURCE_DEM_DATE 1964 00 00 *
AGENCY "WESTERN MAPPING CENTER (WMC)" *
PRODUCER "SANBORN COLORADO, L.L.C." *
PRODUCTION_SYSTEM "ORBIT OR_RECTIFY V.5.2" *
STANDARD_VERSION 1996 12 *
METADATA_DATE 2001 09 14 *
DATA_FILE_SIZE 51123930 *
BYTE_COUNT 6630 * * * * * * * * * * * * * * * * * * * * * * * * * * * * * * * * * * * * * *
END_USGS_HEADER *
