BEGIN_USGS_DOQ_HEADER *
QUADRANGLE_NAME "CASTANEDA HILLS" *
QUADRANT NW *
WEST_LONGITUDE -114 00 00.000 *
EAST_LONGITUDE -113 56 15.000 *
NORTH_LATITUDE 34 30 00.000 *
SOUTH_LATITUDE 34 26 15.000 *
PRODUCTION_DATE 2001 09 12 *
RASTER_ORDER LEFT_RIGHT/TOP_BOTTOM *
BAND_ORGANIZATION "SINGLE FILE" *
BAND_CONTENT BLACK&WHITE *
BITS_PER_PIXEL 8 *
SAMPLES_AND_LINES 6660 7740 *
HORIZONTAL_DATUM NAD83 *
HORIZONTAL_COORDINATE_SYSTEM UTM *
COORDINATE_ZONE 12 *
HORIZONTAL_UNITS METERS *
HORIZONTAL_RESOLUTION 1.000 *
SECONDARY_HORIZONTAL_DATUM NAD27 *
XY_ORIGIN 223950.000 3822000.000 *
SECONDARY_XY_ORIGIN 224015.123 3821800.427 *
NATION US *
STATE AZ *
NW_QUAD_CORNER_XY 224544.801 3821684.053 *
NE_QUAD_CORNER_XY 230285.286 3821515.429 *
SE_QUAD_CORNER_XY 230083.919 3814581.723 *
SW_QUAD_CORNER_XY 224339.138 3814750.206 *
SECONDARY_NW_QUAD_XY 224538.511 3821488.114 *
SECONDARY_NE_QUAD_XY 230279.126 3821319.486 *
SECONDARY_SE_QUAD_XY 230077.765 3814385.975 *
SECONDARY_SW_QUAD_XY 224332.853 3814554.461 *
RMSE_XY 1.590 *
IMAGE_SOURCE "BLACK AND WHITE FILM" *
SOURCE_IMAGE_ID "NAPP 9882 221" *
SOURCE_IMAGE_DATE 1997 05 31 *
SOURCE_IMAGE_ID "NAPP 9882 202" *
SOURCE_IMAGE_DATE 1997 05 31 *
SOURCE_IMAGE_ID "NAPP 9882 219" *
SOURCE_IMAGE_DATE 1997 05 31 *
SOURCE_DEM_DATE 1964 00 00 *
AGENCY "WESTERN MAPPING CENTER (WMC)" *
PRODUCER "SANBORN COLORADO, L.L.C." *
PRODUCTION_SYSTEM "ORBIT OR_RECTIFY V.5.2" *
STANDARD_VERSION 1996 12 *
METADATA_DATE 2001 09 14 *
DATA_FILE_SIZE 51555060 *
BYTE_COUNT 6660 * * * * * * * * * * * * * * * * * * * * * * * * * * * * * * * * * * * * *
END_USGS_HEADER *
