BEGIN_USGS_DOQ_HEADER *
QUADRANGLE_NAME "HARRISON MOUNTAIN" *
QUADRANT NW *
WEST_LONGITUDE -117 15 0.000 *
EAST_LONGITUDE -117 11 15.000 *
NORTH_LATITUDE 34 15 0.000 *
SOUTH_LATITUDE 34 11 15.000 *
PRODUCTION_DATE 2003 11 11 *
RASTER_ORDER LEFT_RIGHT/TOP_BOTTOM *
BAND_ORGANIZATION BIP *
BAND_CONTENT RED *
BAND_CONTENT GREEN *
BAND_CONTENT BLUE *
BITS_PER_PIXEL 8 *
SAMPLES_AND_LINES 6452 7543 *
HORIZONTAL_DATUM NAD83 *
HORIZONTAL_COORDINATE_SYSTEM UTM *
COORDINATE_ZONE 11 *
HORIZONTAL_UNITS METERS *
HORIZONTAL_RESOLUTION 1.0 *
SECONDARY_HORIZONTAL_DATUM NAD27 *
XY_ORIGIN 476583.190 3790205.180 *
SECONDARY_XY_ORIGIN 476663.329 3790009.053 *
NATION US *
STATE CA *
NW_QUAD_CORNER_XY 476980.869 3789904.311 *
NE_QUAD_CORNER_XY 482735.660 3789891.945 *
SE_QUAD_CORNER_XY 482722.907 3782961.808 *
SW_QUAD_CORNER_XY 476963.864 3782974.163 *
SECONDARY_NW_QUAD_XY 476980.350 3789709.063 *
SECONDARY_NE_QUAD_XY 482735.271 3789696.698 *
SECONDARY_SE_QUAD_XY 482722.518 3782766.759 *
SECONDARY_SW_QUAD_XY 476963.345 3782779.114 *
RMSE_XY 2.00 *
IMAGE_SOURCE "CIR FILM" *
SOURCE_IMAGE_ID "NAPP 12504 138" *
SOURCE_IMAGE_DATE 2002 6 6 *
SOURCE_IMAGE_ID "NAPP 12504 139" *
SOURCE_IMAGE_DATE 2002 6 6 *
SOURCE_IMAGE_ID "NAPP 12504 137" *
SOURCE_IMAGE_DATE 2002 6 6 *
SOURCE_IMAGE_ID "NAPP 12474 150" *
SOURCE_IMAGE_DATE 2002 5 22 *
SOURCE_IMAGE_ID "NAPP 12474 151" *
SOURCE_IMAGE_DATE 2002 5 22 *
SOURCE_IMAGE_ID "NAPP 12494 38" *
SOURCE_IMAGE_DATE 2002 6 2 *
SOURCE_IMAGE_ID "NAPP 12493 168" *
SOURCE_IMAGE_DATE 2002 6 2 *
SOURCE_IMAGE_ID "NAPP 12493 169" *
SOURCE_IMAGE_DATE 2002 6 2 *
SOURCE_IMAGE_ID "NAPP 12493 170" *
SOURCE_IMAGE_DATE 2002 6 2 *
SOURCE_DEM_DATE 2003 1 1 *
AGENCY "WESTERN MAPPING CENTER (WMC)" *
PRODUCER "USDA FS GEOSPATIAL SERVICE AND TECHNOLOGY CENTER" *
PRODUCTION_SYSTEM "ORBIT OR_RECTIFY V.5.2" *
STANDARD_VERSION 1996 12 *
METADATA_DATE 2003 11 3 *
DATA_FILE_SIZE 146021664 *
BYTE_COUNT 19356 * * * * * * * * * * * * * * * * * * * * * * * * * * * * * * * * * * * * * * * * * * * * * * * * * * * * * * * * * * * * * * * * * * * * * * * * * * * * * * * * * * * * * * * * * * * * * * * * * * * * * * * * * * * * * * * * * * * * * * * * * * * * * * * * * * * * * * * * * * * * * * * * * * * * * * * * * * * * * * * * * * * * * * * * * * * * * * * * * * * * *
END_USGS_HEADER *
