BEGIN_USGS_DOQ_HEADER *
QUADRANGLE_NAME "SAN BERNARDINO NORTH" *
QUADRANT SW *
WEST_LONGITUDE -117 22 30.000 *
EAST_LONGITUDE -117 18 45.000 *
NORTH_LATITUDE 34 11 15.000 *
SOUTH_LATITUDE 34 7 30.000 *
PRODUCTION_DATE 2003 11 11 *
RASTER_ORDER LEFT_RIGHT/TOP_BOTTOM *
BAND_ORGANIZATION BIP *
BAND_CONTENT RED *
BAND_CONTENT GREEN *
BAND_CONTENT BLUE *
BITS_PER_PIXEL 8 *
SAMPLES_AND_LINES 6466 7551 *
HORIZONTAL_DATUM NAD83 *
HORIZONTAL_COORDINATE_SYSTEM UTM *
COORDINATE_ZONE 11 *
HORIZONTAL_UNITS METERS *
HORIZONTAL_RESOLUTION 1.0 *
SECONDARY_HORIZONTAL_DATUM NAD27 *
XY_ORIGIN 465039.190 3783310.700 *
SECONDARY_XY_ORIGIN 465119.484 3783114.417 *
NATION US *
STATE CA *
NW_QUAD_CORNER_XY 465445.745 3783009.463 *
NE_QUAD_CORNER_XY 471204.811 3782990.048 *
SE_QUAD_CORNER_XY 471183.589 3776059.957 *
SW_QUAD_CORNER_XY 465420.279 3776079.355 *
SECONDARY_NW_QUAD_XY 465444.966 3782814.415 *
SECONDARY_NE_QUAD_XY 471204.162 3782794.999 *
SECONDARY_SE_QUAD_XY 471182.941 3775865.108 *
SECONDARY_SW_QUAD_XY 465419.500 3775884.506 *
RMSE_XY 2.00 *
IMAGE_SOURCE "CIR FILM" *
SOURCE_IMAGE_ID "NAPP 12474 66" *
SOURCE_IMAGE_DATE 2002 5 22 *
SOURCE_IMAGE_ID "NAPP 12474 67" *
SOURCE_IMAGE_DATE 2002 5 22 *
SOURCE_IMAGE_ID "NAPP 12474 65" *
SOURCE_IMAGE_DATE 2002 5 22 *
SOURCE_IMAGE_ID "NAPP 12504 63" *
SOURCE_IMAGE_DATE 2002 6 6 *
SOURCE_IMAGE_ID "NAPP 12504 62" *
SOURCE_IMAGE_DATE 2002 6 6 *
SOURCE_IMAGE_ID "NAPP 12504 61" *
SOURCE_IMAGE_DATE 2002 6 6 *
SOURCE_IMAGE_ID "NAPP 12474 148" *
SOURCE_IMAGE_DATE 2002 5 22 *
SOURCE_IMAGE_ID "NAPP 12474 149" *
SOURCE_IMAGE_DATE 2002 5 22 *
SOURCE_IMAGE_ID "NAPP 12474 150" *
SOURCE_IMAGE_DATE 2002 5 22 *
SOURCE_DEM_DATE 2003 1 1 *
AGENCY "WESTERN MAPPING CENTER (WMC)" *
PRODUCER "USDA FS GEOSPATIAL SERVICE AND TECHNOLOGY CENTER" *
PRODUCTION_SYSTEM "ORBIT OR_RECTIFY V.5.2" *
STANDARD_VERSION 1996 12 *
METADATA_DATE 2003 11 3 *
DATA_FILE_SIZE 146493696 *
BYTE_COUNT 19398 * * * * * * * * * * * * * * * * * * * * * * * * * * * * * * * * * * * * * * * * * * * * * * * * * * * * * * * * * * * * * * * * * * * * * * * * * * * * * * * * * * * * * * * * * * * * * * * * * * * * * * * * * * * * * * * * * * * * * * * * * * * * * * * * * * * * * * * * * * * * * * * * * * * * * * * * * * * * * * * * * * * * * * * * * * * * * * * * * * * * * *
END_USGS_HEADER *
