BEGIN_USGS_DOQ_HEADER *
QUADRANGLE_NAME "LAKE ARROWHEAD" *
QUADRANT SE *
WEST_LONGITUDE -117 11 15.000 *
EAST_LONGITUDE -117 7 30.000 *
NORTH_LATITUDE 34 18 45.000 *
SOUTH_LATITUDE 34 15 0.000 *
PRODUCTION_DATE 2003 11 11 *
RASTER_ORDER LEFT_RIGHT/TOP_BOTTOM *
BAND_ORGANIZATION BIP *
BAND_CONTENT RED *
BAND_CONTENT GREEN *
BAND_CONTENT BLUE *
BITS_PER_PIXEL 8 *
SAMPLES_AND_LINES 6444 7540 *
HORIZONTAL_DATUM NAD83 *
HORIZONTAL_COORDINATE_SYSTEM UTM *
COORDINATE_ZONE 11 *
HORIZONTAL_UNITS METERS *
HORIZONTAL_RESOLUTION 1.0 *
SECONDARY_HORIZONTAL_DATUM NAD27 *
XY_ORIGIN 482355.140 3797122.890 *
SECONDARY_XY_ORIGIN 482435.243 3796926.707 *
NATION US *
STATE CA *
NW_QUAD_CORNER_XY 482748.435 3796822.153 *
NE_QUAD_CORNER_XY 488498.961 3796813.313 *
SE_QUAD_CORNER_XY 488490.445 3789883.113 *
SW_QUAD_CORNER_XY 482735.660 3789891.945 *
SECONDARY_NW_QUAD_XY 482748.045 3796626.708 *
SECONDARY_NE_QUAD_XY 488498.701 3796617.868 *
SECONDARY_SE_QUAD_XY 488490.186 3789687.865 *
SECONDARY_SW_QUAD_XY 482735.271 3789696.698 *
RMSE_XY 2.00 *
IMAGE_SOURCE "CIR FILM" *
SOURCE_IMAGE_ID "NAPP 12493 171" *
SOURCE_IMAGE_DATE 2002 6 2 *
SOURCE_IMAGE_ID "NAPP 12493 170" *
SOURCE_IMAGE_DATE 2002 6 2 *
SOURCE_IMAGE_ID "NAPP 12493 172" *
SOURCE_IMAGE_DATE 2002 6 2 *
SOURCE_IMAGE_ID "NAPP 12504 137" *
SOURCE_IMAGE_DATE 2002 6 6 *
SOURCE_IMAGE_ID "NAPP 12494 32" *
SOURCE_IMAGE_DATE 2002 6 2 *
SOURCE_IMAGE_ID "NAPP 12494 31" *
SOURCE_IMAGE_DATE 2002 6 2 *
SOURCE_IMAGE_ID "NAPP 12484 79" *
SOURCE_IMAGE_DATE 2002 5 29 *
SOURCE_IMAGE_ID "NAPP 12484 80" *
SOURCE_IMAGE_DATE 2002 5 29 *
SOURCE_IMAGE_ID "NAPP 12484 81" *
SOURCE_IMAGE_DATE 2002 5 29 *
SOURCE_DEM_DATE 2003 1 1 *
AGENCY "WESTERN MAPPING CENTER (WMC)" *
PRODUCER "USDA FS GEOSPATIAL SERVICE AND TECHNOLOGY CENTER" *
PRODUCTION_SYSTEM "ORBIT OR_RECTIFY V.5.2" *
STANDARD_VERSION 1996 12 *
METADATA_DATE 2003 11 3 *
DATA_FILE_SIZE 145782612 *
BYTE_COUNT 19332 * * * * * * * * * * * * * * * * * * * * * * * * * * * * * * * * * * * * * * * * * * * * * * * * * * * * * * * * * * * * * * * * * * * * * * * * * * * * * * * * * * * * * * * * * * * * * * * * * * * * * * * * * * * * * * * * * * * * * * * * * * * * * * * * * * * * * * * * * * * * * * * * * * * * * * * * * * * * * * * * * * * * * * * * * * * * * * * * * * * * *
END_USGS_HEADER *
