BEGIN_USGS_DOQ_HEADER *
QUADRANGLE_NAME "GUASTI" *
QUADRANT SW *
NORTH_LATITUDE 34 03 45.000 *
WEST_LONGITUDE -117 37 30.000 *
SOUTH_LATITUDE 34 00 00.000 *
EAST_LONGITUDE -117 33 45.000 *
PRODUCTION_DATE 1998 09 10 *
RASTER_ORDER LEFT_RIGHT/TOP_BOTTOM *
BAND_ORGANIZATION "SINGLE FILE" *
BAND_CONTENT BLACK&WHITE *
BITS_PER_PIXEL 8 *
SAMPLES_AND_LINES 6510 7620 *
HORIZONTAL_DATUM NAD83 *
HORIZONTAL_COORDINATE_SYSTEM UTM *
COORDINATE_ZONE 11 *
HORIZONTAL_UNITS METERS *
HORIZONTAL_RESOLUTION 1.000 *
SECONDARY_HORIZONTAL_DATUM NAD27 *
XY_ORIGIN 441900.000 3769590.000 *
SECONDARY_XY_ORIGIN 441980.534 3769393.613 *
NATION US *
STATE CA *
NW_QUAD_CORNER_XY 442324.481 3769262.083 *
NE_QUAD_CORNER_XY 448092.106 3769228.606 *
SE_QUAD_CORNER_XY 448054.029 3762298.568 *
SW_QUAD_CORNER_XY 442282.172 3762332.017 *
SECONDARY_NW_QUAD_XY 442323.180 3769067.436 *
SECONDARY_NE_QUAD_XY 448090.935 3769033.958 *
SECONDARY_SE_QUAD_XY 448052.859 3762104.121 *
SECONDARY_SW_QUAD_XY 442280.873 3762137.570 *
RMSE_XY 1.114 *
IMAGE_SOURCE "BLACK AND WHITE FILM" *
SOURCE_IMAGE_ID "NAPP 6866 60" *
SOURCE_IMAGE_DATE 1994 06 01 *
SOURCE_IMAGE_ID "NAPP 6866 53" *
SOURCE_IMAGE_DATE 1994 06 01 *
SOURCE_DEM_DATE 1966 01 01 *
AGENCY "WESTERN MAPPING CENTER (WMC)" *
PRODUCER "ANALYTICAL SURVEYS INC." *
PRODUCTION_SYSTEM "ORBIT OR_RECTIFY V.5.2" *
STANDARD_VERSION 1996 12 *
METADATA_DATE 1998 09 14 *
DATA_FILE_SIZE 49612710 *
BYTE_COUNT 6510 * * * * * * * * * * * * * * * * * * * * * * * * * * * * * * * * * * * * *
END_USGS_HEADER *
