BEGIN_USGS_DOQ_HEADER *
QUADRANGLE_NAME "ONTARIO" *
QUADRANT NW *
NORTH_LATITUDE 34 07 30.000 *
WEST_LONGITUDE -117 45 00.000 *
SOUTH_LATITUDE 34 03 45.000 *
EAST_LONGITUDE -117 41 15.000 *
PRODUCTION_DATE 1998 09 09 *
RASTER_ORDER LEFT_RIGHT/TOP_BOTTOM *
BAND_ORGANIZATION "SINGLE FILE" *
BAND_CONTENT BLACK&WHITE *
BITS_PER_PIXEL 8 *
SAMPLES_AND_LINES 6540 7590 *
HORIZONTAL_DATUM NAD83 *
HORIZONTAL_COORDINATE_SYSTEM UTM *
COORDINATE_ZONE 11 *
HORIZONTAL_UNITS METERS *
HORIZONTAL_RESOLUTION 1.000 *
SECONDARY_HORIZONTAL_DATUM NAD27 *
XY_ORIGIN 430380.000 3776580.000 *
SECONDARY_XY_ORIGIN 430460.554 3776383.597 *
NATION US *
STATE CA *
NW_QUAD_CORNER_XY 430840.004 3776269.817 *
NE_QUAD_CORNER_XY 436603.445 3776229.254 *
SE_QUAD_CORNER_XY 436556.829 3769299.086 *
SW_QUAD_CORNER_XY 430789.150 3769339.612 *
SECONDARY_NW_QUAD_XY 430838.441 3776074.972 *
SECONDARY_NE_QUAD_XY 436602.012 3776034.408 *
SECONDARY_SE_QUAD_XY 436555.398 3769104.439 *
SECONDARY_SW_QUAD_XY 430787.589 3769144.967 *
RMSE_XY 2.396 *
IMAGE_SOURCE "BLACK AND WHITE FILM" *
SOURCE_IMAGE_ID "NAPP 6866 124" *
SOURCE_IMAGE_DATE 1994 06 01 *
SOURCE_IMAGE_ID "NAPP 6866 105" *
SOURCE_IMAGE_DATE 1994 06 01 *
SOURCE_DEM_DATE 1966 01 01 *
AGENCY "WESTERN MAPPING CENTER (WMC)" *
PRODUCER "ANALYTICAL SURVEYS INC." *
PRODUCTION_SYSTEM "ORBIT OR_RECTIFY V.5.2" *
STANDARD_VERSION 1996 12 *
METADATA_DATE 1998 09 14 *
DATA_FILE_SIZE 49645140 *
BYTE_COUNT 6540 * * * * * * * * * * * * * * * * * * * * * * * * * * * * * * * * * * * * *
END_USGS_HEADER *
