BEGIN_USGS_DOQ_HEADER *
QUADRANGLE_NAME "KELLER PEAK" *
QUADRANT NE *
NORTH_LATITUDE 34 15 00.000 *
WEST_LONGITUDE -117 03 45.000 *
SOUTH_LATITUDE 34 11 15.000 *
EAST_LONGITUDE -117 00 00.000 *
PRODUCTION_DATE 1998 09 25 *
RASTER_ORDER LEFT_RIGHT/TOP_BOTTOM *
BAND_ORGANIZATION "SINGLE FILE" *
BAND_CONTENT BLACK&WHITE *
BITS_PER_PIXEL 8 *
SAMPLES_AND_LINES 6450 7560 *
HORIZONTAL_DATUM NAD83 *
HORIZONTAL_COORDINATE_SYSTEM UTM *
COORDINATE_ZONE 11 *
HORIZONTAL_UNITS METERS *
HORIZONTAL_RESOLUTION 1.000 *
SECONDARY_HORIZONTAL_DATUM NAD27 *
XY_ORIGIN 493860.000 3790200.000 *
SECONDARY_XY_ORIGIN 493940.131 3790003.953 *
NATION US *
STATE CA *
NW_QUAD_CORNER_XY 494245.224 3789877.813 *
NE_QUAD_CORNER_XY 500000.000 3789876.047 *
SE_QUAD_CORNER_XY 500000.000 3782945.923 *
SW_QUAD_CORNER_XY 494240.972 3782947.688 *
SECONDARY_NW_QUAD_XY 494245.093 3789682.565 *
SECONDARY_NE_QUAD_XY 500000.000 3789680.799 *
SECONDARY_SE_QUAD_XY 500000.000 3782750.874 *
SECONDARY_SW_QUAD_XY 494240.842 3782752.639 *
RMSE_XY 4.932 *
IMAGE_SOURCE "BLACK AND WHITE FILM" *
SOURCE_IMAGE_ID "NAPP 6874 105" *
SOURCE_IMAGE_DATE 1995 10 02 *
SOURCE_IMAGE_ID "NAPP 6874 106" *
SOURCE_IMAGE_DATE 1995 10 02 *
SOURCE_IMAGE_ID "NAPP 6874 107" *
SOURCE_IMAGE_DATE 1995 10 02 *
SOURCE_DEM_DATE 1952 01 01 *
AGENCY "WESTERN MAPPING CENTER (WMC)" *
PRODUCER "ANALYTICAL SURVEYS INC." *
PRODUCTION_SYSTEM "ORBIT OR_RECTIFY V.5.2" *
STANDARD_VERSION 1996 12 *
METADATA_DATE 1998 11 10 *
DATA_FILE_SIZE 48768450 *
BYTE_COUNT 6450 * * * * * * * * * * * * * * * * * * * * * * * * * * * * * * * * * *
END_USGS_HEADER *
