BEGIN_USGS_DOQ_HEADER *
QUADRANGLE_NAME "CUCAMONGA PEAK" *
QUADRANT SW *
NORTH_LATITUDE 34 11 15.000 *
WEST_LONGITUDE -117 37 30.000 *
SOUTH_LATITUDE 34 07 30.000 *
EAST_LONGITUDE -117 33 45.000 *
PRODUCTION_DATE 1998 09 21 *
RASTER_ORDER LEFT_RIGHT/TOP_BOTTOM *
BAND_ORGANIZATION "SINGLE FILE" *
BAND_CONTENT BLACK&WHITE *
BITS_PER_PIXEL 8 *
SAMPLES_AND_LINES 6510 7620 *
HORIZONTAL_DATUM NAD83 *
HORIZONTAL_COORDINATE_SYSTEM UTM *
COORDINATE_ZONE 11 *
HORIZONTAL_UNITS METERS *
HORIZONTAL_RESOLUTION 1.000 *
SECONDARY_HORIZONTAL_DATUM NAD27 *
XY_ORIGIN 441960.000 3783450.000 *
SECONDARY_XY_ORIGIN 442040.470 3783253.626 *
NATION US *
STATE CA *
NW_QUAD_CORNER_XY 442409.303 3783122.426 *
NE_QUAD_CORNER_XY 448168.446 3783088.890 *
SE_QUAD_CORNER_XY 448130.245 3776158.713 *
SW_QUAD_CORNER_XY 442366.858 3776192.220 *
SECONDARY_NW_QUAD_XY 442408.000 3782927.380 *
SECONDARY_NE_QUAD_XY 448167.272 3782893.843 *
SECONDARY_SE_QUAD_XY 448129.073 3775963.865 *
SECONDARY_SW_QUAD_XY 442365.555 3775997.373 *
RMSE_XY 1.183 *
IMAGE_SOURCE "BLACK AND WHITE FILM" *
SOURCE_IMAGE_ID "NAPP 6874 92" *
SOURCE_IMAGE_DATE 1995 10 02 *
SOURCE_IMAGE_ID "NAPP 6874 93" *
SOURCE_IMAGE_DATE 1995 10 02 *
SOURCE_DEM_DATE 1952 01 01 *
AGENCY "WESTERN MAPPING CENTER (WMC)" *
PRODUCER "ANALYTICAL SURVEYS INC." *
PRODUCTION_SYSTEM "ORBIT OR_RECTIFY V.5.2" *
STANDARD_VERSION 1996 12 *
METADATA_DATE 1998 09 22 *
DATA_FILE_SIZE 49612710 *
BYTE_COUNT 6510 * * * * * * * * * * * * * * * * * * * * * * * * * * * * * * * * * * * * *
END_USGS_HEADER *
