BEGIN_USGS_DOQ_HEADER *
QUADRANGLE_NAME "TELEGRAPH PEAK" *
QUADRANT NW *
NORTH_LATITUDE 34 22 30.000 *
WEST_LONGITUDE -117 37 30.000 *
SOUTH_LATITUDE 34 18 45.000 *
EAST_LONGITUDE -117 33 45.000 *
PRODUCTION_DATE 1998 09 21 *
RASTER_ORDER LEFT_RIGHT/TOP_BOTTOM *
BAND_ORGANIZATION "SINGLE FILE" *
BAND_CONTENT BLACK&WHITE *
BITS_PER_PIXEL 8 *
SAMPLES_AND_LINES 6480 7620 *
HORIZONTAL_DATUM NAD83 *
HORIZONTAL_COORDINATE_SYSTEM UTM *
COORDINATE_ZONE 11 *
HORIZONTAL_UNITS METERS *
HORIZONTAL_RESOLUTION 1.000 *
SECONDARY_HORIZONTAL_DATUM NAD27 *
XY_ORIGIN 442110.000 3804240.000 *
SECONDARY_XY_ORIGIN 442190.343 3804043.847 *
NATION US *
STATE CA *
NW_QUAD_CORNER_XY 442537.052 3803913.464 *
NE_QUAD_CORNER_XY 448283.418 3803879.841 *
SE_QUAD_CORNER_XY 448245.032 3796949.454 *
SW_QUAD_CORNER_XY 442494.401 3796983.048 *
SECONDARY_NW_QUAD_XY 442535.745 3803717.826 *
SECONDARY_NE_QUAD_XY 448282.242 3803684.203 *
SECONDARY_SE_QUAD_XY 448243.857 3796754.012 *
SECONDARY_SW_QUAD_XY 442493.095 3796787.607 *
RMSE_XY 2.072 *
IMAGE_SOURCE "BLACK AND WHITE FILM" *
SOURCE_IMAGE_ID "NAPP 6874 98" *
SOURCE_IMAGE_DATE 1995 10 02 *
SOURCE_IMAGE_ID "NAPP 6874 97" *
SOURCE_IMAGE_DATE 1995 10 02 *
SOURCE_IMAGE_ID "NAPP 6874 99" *
SOURCE_IMAGE_DATE 1995 10 02 *
SOURCE_IMAGE_ID "NAPP 6852 83" *
SOURCE_IMAGE_DATE 1994 05 28 *
SOURCE_IMAGE_ID "NAPP 6874 96" *
SOURCE_IMAGE_DATE 1995 10 02 *
SOURCE_DEM_DATE 1952 01 01 *
AGENCY "WESTERN MAPPING CENTER (WMC)" *
PRODUCER "ANALYTICAL SURVEYS INC." *
PRODUCTION_SYSTEM "ORBIT OR_RECTIFY V.5.2" *
STANDARD_VERSION 1996 12 *
METADATA_DATE 1998 09 22 *
DATA_FILE_SIZE 49384080 *
BYTE_COUNT 6480 * * * * * * * * * * * * * * * * * * * * * * * * * * * * * *
END_USGS_HEADER *
