BEGIN_USGS_DOQ_HEADER *
QUADRANGLE_NAME "CRYSTAL LAKE" 3.45 or 7.5-min. name*
QUADRANT SW quadrant indicator if cell size = 3.75-minutes*
WEST_LONGITUDE -117 52 30.000 signed deg min sec SDDD MM SS.SSS*
EAST_LONGITUDE -117 48 45.000 signed deg min sec SDDD MM SS.SSS*
NORTH_LATITUDE 34 18 45.000 signed deg min sec SDDD MM SS.SSS*
SOUTH_LATITUDE 34 15 0.000 signed deg min sec SDDD MM SS.SSS*
PRODUCTION_DATE 1996 6 6 yyyy mm dd*
RASTER_ORDER LEFT_RIGHT/TOP_BOTTOM video display order*
BAND_ORGANIZATION "SINGLE FILE" single file or BSQ, or BIL or BIP*
BAND_CONTENT BLACK&WHITE black&white or red green blue*
BITS_PER_PIXEL 8 radiometric resolution*
SAMPLES_AND_LINES 6492 7582 number of columns and rows*
HORIZONTAL_DATUM NAD83 primary horizontal datum*
HORIZONTAL_COORDINATE_SYSTEM UTM *
COORDINATE_ZONE 11 coordinate system zone number*
HORIZONTAL_UNITS METERS coordinate system units*
HORIZONTAL_RESOLUTION 1.00 pixel horiz. ground sample distance*
SECONDARY_HORIZONTAL_DATUM NAD27 secondary horizontal datum*
XY_ORIGIN 419049.000 3797455.000 coord. of upper left pixel pri. datum*
SECONDARY_XY_ORIGIN 419129.614 3797258.697 coord upper left pixel sec datum*
NATION US nation code*
STATE CA state fip code*
NW_QUAD_CORNER_XY 419491.597 3797152.794 XY coords. of pri. NW quad corner*
NE_QUAD_CORNER_XY 425242.345 3797105.052 XY coords. of pri. NE quad corner*
SE_QUAD_CORNER_XY 425186.984 3790174.601 XY coords. of pri. SE quad corner*
SW_QUAD_CORNER_XY 419431.978 3790222.302 XY coords. of pri. SW quad corner*
SECONDARY_NW_QUAD_XY 419489.769 3796957.356 XY coords. - sec. NW quad cor.*
SECONDARY_NE_QUAD_XY 425240.647 3796909.613 XY coords. - sec. NE quad cor.*
SECONDARY_SE_QUAD_XY 425185.288 3789979.360 XY coords. - sec. SE quad cor.*
SECONDARY_SW_QUAD_XY 419430.151 3790027.062 XY coords. - sec. SW quad cor.*
RMSE_XY 3.50 doq horiz. accuracy*
IMAGE_SOURCE "BLACK AND WHITE FILM" b&w, cir, natural color, other*
SOURCE_IMAGE_ID "NAPP 6870 208" source image id*
SOURCE_IMAGE_DATE 1994 6 9 source image date as yyyy mm dd*
SOURCE_DEM_DATE 1996 6 6 source dem date yyyy mm dd*
AGENCY "WESTERN MAPPING CENTER (WMC)" oversight agency*
PRODUCER "USDA FS GEOMETRONICS SERVICE CENTER" *
PRODUCTION_SYSTEM "DV2.6.1 6/95OV2.4 5/95" production system*
STANDARD_VERSION 1996 12 version of DOQ standard*
METADATA_DATE 1998 12 29 date created or changed, yyyy mm dd*
DATA_FILE_SIZE 49228836 data set size in bytes*
BYTE_COUNT 6492 header byte count* * * * * * * * * * * * * * * * * * * * * * * * * * * * * * * * * * * * * * *
END_USGS_HEADER *
