BEGIN_USGS_DOQ_HEADER *
QUADRANGLE_NAME "PHELAN" *
QUADRANT SW *
NORTH_LATITUDE 34 26 15.000 *
WEST_LONGITUDE -117 37 30.000 *
SOUTH_LATITUDE 34 22 30.000 *
EAST_LONGITUDE -117 33 45.000 *
PRODUCTION_DATE 1998 05 07 *
RASTER_ORDER LEFT_RIGHT/TOP_BOTTOM *
BAND_ORGANIZATION "SINGLE FILE" *
BAND_CONTENT BLACK&WHITE *
BITS_PER_PIXEL 8 *
SAMPLES_AND_LINES 6510 7620 *
HORIZONTAL_DATUM NAD83 *
HORIZONTAL_COORDINATE_SYSTEM UTM *
COORDINATE_ZONE 11 *
HORIZONTAL_UNITS METERS *
HORIZONTAL_RESOLUTION 1.000 *
SECONDARY_HORIZONTAL_DATUM NAD27 *
XY_ORIGIN 442140.000 3811170.000 *
SECONDARY_XY_ORIGIN 442220.301 3810973.948 *
NATION US *
STATE CA *
NW_QUAD_CORNER_XY 442579.772 3810843.950 *
NE_QUAD_CORNER_XY 448321.866 3810810.299 *
SE_QUAD_CORNER_XY 448283.418 3803879.841 *
SW_QUAD_CORNER_XY 442537.052 3803913.464 *
SECONDARY_NW_QUAD_XY 442578.464 3810648.117 *
SECONDARY_NE_QUAD_XY 448320.688 3810614.464 *
SECONDARY_SE_QUAD_XY 448282.242 3803684.203 *
SECONDARY_SW_QUAD_XY 442535.745 3803717.826 *
RMSE_XY 1.068 *
IMAGE_SOURCE "BLACK AND WHITE FILM" *
SOURCE_IMAGE_ID "NAPP 6852 10" *
SOURCE_IMAGE_DATE 1994 05 28 *
SOURCE_IMAGE_ID "NAPP 6852 9" *
SOURCE_IMAGE_DATE 1994 05 28 *
SOURCE_DEM_DATE 1952 01 01 *
AGENCY "WESTERN MAPPING CENTER (WMC)" *
PRODUCER "ANALYTICAL SURVEYS INC." *
PRODUCTION_SYSTEM "ORBIT OR_RECTIFY V.5.2" *
STANDARD_VERSION 1996 12 *
METADATA_DATE 1998 05 08 *
DATA_FILE_SIZE 49612710 *
BYTE_COUNT 6510 * * * * * * * * * * * * * * * * * * * * * * * * * * * * * * * * * * * * *
END_USGS_HEADER *
