BEGIN_USGS_DOQ_HEADER *
QUADRANGLE_NAME "LOVEJOY BUTTES" *
QUADRANT SE *
NORTH_LATITUDE 34 33 45.000 *
WEST_LONGITUDE -117 48 45.000 *
SOUTH_LATITUDE 34 30 00.000 *
EAST_LONGITUDE -117 45 00.000 *
PRODUCTION_DATE 1998 05 04 *
RASTER_ORDER LEFT_RIGHT/TOP_BOTTOM *
BAND_ORGANIZATION "SINGLE FILE" *
BAND_CONTENT BLACK&WHITE *
BITS_PER_PIXEL 8 *
SAMPLES_AND_LINES 6510 7620 *
HORIZONTAL_DATUM NAD83 *
HORIZONTAL_COORDINATE_SYSTEM UTM *
COORDINATE_ZONE 11 *
HORIZONTAL_UNITS METERS *
HORIZONTAL_RESOLUTION 1.000 *
SECONDARY_HORIZONTAL_DATUM NAD27 *
XY_ORIGIN 425010.000 3825150.000 *
SECONDARY_XY_ORIGIN 425090.551 3824953.934 *
NATION US *
STATE CA *
NW_QUAD_CORNER_XY 425464.676 3824827.550 *
NE_QUAD_CORNER_XY 431198.285 3824783.196 *
SE_QUAD_CORNER_XY 431146.855 3817852.504 *
SW_QUAD_CORNER_XY 425408.959 3817896.821 *
SECONDARY_NW_QUAD_XY 425462.972 3824631.330 *
SECONDARY_NE_QUAD_XY 431196.712 3824586.975 *
SECONDARY_SE_QUAD_XY 431145.284 3817656.477 *
SECONDARY_SW_QUAD_XY 425407.257 3817700.795 *
RMSE_XY 1.126 *
IMAGE_SOURCE "BLACK AND WHITE FILM" *
SOURCE_IMAGE_ID "NAPP 6875 263" *
SOURCE_IMAGE_DATE 1995 10 04 *
SOURCE_DEM_DATE 1955 01 01 *
AGENCY "WESTERN MAPPING CENTER (WMC)" *
PRODUCER "ANALYTICAL SURVEYS INC." *
PRODUCTION_SYSTEM "ORBIT OR_RECTIFY V.5.2" *
STANDARD_VERSION 1996 12 *
METADATA_DATE 1998 05 05 *
DATA_FILE_SIZE 49612710 *
BYTE_COUNT 6510 * * * * * * * * * * * * * * * * * * * * * * * * * * * * * * * * * * * * * * *
END_USGS_HEADER *
