BEGIN_USGS_DOQ_HEADER *
QUADRANGLE_NAME "ALPINE BUTTE" *
QUADRANT SW *
NORTH_LATITUDE 34 41 15.000 *
WEST_LONGITUDE -118 00 00.000 *
SOUTH_LATITUDE 34 37 30.000 *
EAST_LONGITUDE -117 56 15.000 *
PRODUCTION_DATE 1998 04 30 *
RASTER_ORDER LEFT_RIGHT/TOP_BOTTOM *
BAND_ORGANIZATION "SINGLE FILE" *
BAND_CONTENT BLACK&WHITE *
BITS_PER_PIXEL 8 *
SAMPLES_AND_LINES 6510 7620 *
HORIZONTAL_DATUM NAD83 *
HORIZONTAL_COORDINATE_SYSTEM UTM *
COORDINATE_ZONE 11 *
HORIZONTAL_UNITS METERS *
HORIZONTAL_RESOLUTION 1.000 *
SECONDARY_HORIZONTAL_DATUM NAD27 *
XY_ORIGIN 407940.000 3839160.000 *
SECONDARY_XY_ORIGIN 408020.567 3838964.132 *
NATION US *
STATE CA *
NW_QUAD_CORNER_XY 408401.130 3838843.833 *
NE_QUAD_CORNER_XY 414126.247 3838788.739 *
SE_QUAD_CORNER_XY 414061.752 3831857.789 *
SW_QUAD_CORNER_XY 408332.334 3831912.837 *
SECONDARY_NW_QUAD_XY 408399.029 3838647.231 *
SECONDARY_NE_QUAD_XY 414124.277 3838592.135 *
SECONDARY_SE_QUAD_XY 414059.784 3831661.377 *
SECONDARY_SW_QUAD_XY 408330.235 3831716.427 *
RMSE_XY 1.028 *
IMAGE_SOURCE "BLACK AND WHITE FILM" *
SOURCE_IMAGE_ID "NAPP 6850 166" *
SOURCE_IMAGE_DATE 1994 05 28 *
SOURCE_DEM_DATE 1955 01 01 *
AGENCY "WESTERN MAPPING CENTER (WMC)" *
PRODUCER "ANALYTICAL SURVEYS INC." *
PRODUCTION_SYSTEM "ORBIT OR_RECTIFY V.5.2" *
STANDARD_VERSION 1996 12 *
METADATA_DATE 1998 04 30 *
DATA_FILE_SIZE 49612710 *
BYTE_COUNT 6510 * * * * * * * * * * * * * * * * * * * * * * * * * * * * * * * * * * * * * * *
END_USGS_HEADER *
