BEGIN_USGS_DOQ_HEADER *
QUADRANGLE_NAME "HODGE" *
QUADRANT SE *
NORTH_LATITUDE 34 48 45.000 *
WEST_LONGITUDE -117 11 15.000 *
SOUTH_LATITUDE 34 45 00.000 *
EAST_LONGITUDE -117 07 30.000 *
PRODUCTION_DATE 1998 05 08 *
RASTER_ORDER LEFT_RIGHT/TOP_BOTTOM *
BAND_ORGANIZATION "SINGLE FILE" *
BAND_CONTENT BLACK&WHITE *
BITS_PER_PIXEL 8 *
SAMPLES_AND_LINES 6450 7560 *
HORIZONTAL_DATUM NAD83 *
HORIZONTAL_COORDINATE_SYSTEM UTM *
COORDINATE_ZONE 11 *
HORIZONTAL_UNITS METERS *
HORIZONTAL_RESOLUTION 1.000 *
SECONDARY_HORIZONTAL_DATUM NAD27 *
XY_ORIGIN 482430.000 3852570.000 *
SECONDARY_XY_ORIGIN 482509.880 3852374.543 *
NATION US *
STATE CA *
NW_QUAD_CORNER_XY 482851.367 3852266.368 *
NE_QUAD_CORNER_XY 488567.582 3852257.468 *
SE_QUAD_CORNER_XY 488558.956 3845326.700 *
SW_QUAD_CORNER_XY 482838.429 3845335.592 *
SECONDARY_NW_QUAD_XY 482850.972 3852069.372 *
SECONDARY_NE_QUAD_XY 488567.319 3852060.473 *
SECONDARY_SE_QUAD_XY 488558.694 3845129.895 *
SECONDARY_SW_QUAD_XY 482838.034 3845138.788 *
RMSE_XY 0.928 *
IMAGE_SOURCE "BLACK AND WHITE FILM" *
SOURCE_IMAGE_ID "NAPP 6880 13" *
SOURCE_IMAGE_DATE 1995 10 07 *
SOURCE_DEM_DATE 1993 01 01 *
AGENCY "WESTERN MAPPING CENTER (WMC)" *
PRODUCER "ANALYTICAL SURVEYS INC." *
PRODUCTION_SYSTEM "ORBIT OR_RECTIFY V.5.2" *
STANDARD_VERSION 1996 12 *
METADATA_DATE 1998 05 08 *
DATA_FILE_SIZE 48768450 *
BYTE_COUNT 6450 * * * * * * * * * * * * * * * * * * * * * * * * * * * * * * * * * * * * * *
END_USGS_HEADER *
