BEGIN_USGS_DOQ_HEADER *
QUADRANGLE_NAME "RED BUTTES" *
QUADRANT SW *
NORTH_LATITUDE 34 48 45.000 *
WEST_LONGITUDE -117 37 30.000 *
SOUTH_LATITUDE 34 45 00.000 *
EAST_LONGITUDE -117 33 45.000 *
PRODUCTION_DATE 1998 04 26 *
RASTER_ORDER LEFT_RIGHT/TOP_BOTTOM *
BAND_ORGANIZATION "SINGLE FILE" *
BAND_CONTENT BLACK&WHITE *
BITS_PER_PIXEL 8 *
SAMPLES_AND_LINES 6450 7590 *
HORIZONTAL_DATUM NAD83 *
HORIZONTAL_COORDINATE_SYSTEM UTM *
COORDINATE_ZONE 11 *
HORIZONTAL_UNITS METERS *
HORIZONTAL_RESOLUTION 1.000 *
SECONDARY_HORIZONTAL_DATUM NAD27 *
XY_ORIGIN 442410.000 3852750.000 *
SECONDARY_XY_ORIGIN 442490.226 3852554.376 *
NATION US *
STATE CA *
NW_QUAD_CORNER_XY 442837.527 3852428.342 *
NE_QUAD_CORNER_XY 448553.843 3852394.522 *
SE_QUAD_CORNER_XY 448515.026 3845463.642 *
SW_QUAD_CORNER_XY 442794.397 3845497.434 *
SECONDARY_NW_QUAD_XY 442836.212 3852231.350 *
SECONDARY_NE_QUAD_XY 448552.659 3852197.530 *
SECONDARY_SE_QUAD_XY 448513.843 3845266.841 *
SECONDARY_SW_QUAD_XY 442793.083 3845300.633 *
RMSE_XY 1.125 *
IMAGE_SOURCE "BLACK AND WHITE FILM" *
SOURCE_IMAGE_ID "NAPP 6852 22" *
SOURCE_IMAGE_DATE 1994 05 28 *
SOURCE_DEM_DATE 1973 01 01 *
AGENCY "WESTERN MAPPING CENTER (WMC)" *
PRODUCER "ANALYTICAL SURVEYS INC." *
PRODUCTION_SYSTEM "ORBIT OR_RECTIFY V.5.2" *
STANDARD_VERSION 1996 12 *
METADATA_DATE 1998 04 28 *
DATA_FILE_SIZE 48961950 *
BYTE_COUNT 6450 * * * * * * * * * * * * * * * * * * * * * * * * * * * * * * * * * * * * * *
END_USGS_HEADER *
