BEGIN_USGS_DOQ_HEADER *
QUADRANGLE_NAME "JACKRABBIT HILL" *
QUADRANT NE *
NORTH_LATITUDE 34 52 30.000 *
WEST_LONGITUDE -117 41 15.000 *
SOUTH_LATITUDE 34 48 45.000 *
EAST_LONGITUDE -117 37 30.000 *
PRODUCTION_DATE 1998 04 30 *
RASTER_ORDER LEFT_RIGHT/TOP_BOTTOM *
BAND_ORGANIZATION "SINGLE FILE" *
BAND_CONTENT BLACK&WHITE *
BITS_PER_PIXEL 8 *
SAMPLES_AND_LINES 6480 7590 *
HORIZONTAL_DATUM NAD83 *
HORIZONTAL_COORDINATE_SYSTEM UTM *
COORDINATE_ZONE 11 *
HORIZONTAL_UNITS METERS *
HORIZONTAL_RESOLUTION 1.000 *
SECONDARY_HORIZONTAL_DATUM NAD27 *
XY_ORIGIN 436710.000 3859710.000 *
SECONDARY_XY_ORIGIN 436790.254 3859514.410 *
NATION US *
STATE CA *
NW_QUAD_CORNER_XY 437168.707 3859396.730 *
NE_QUAD_CORNER_XY 442880.725 3859359.320 *
SE_QUAD_CORNER_XY 442837.527 3852428.342 *
SW_QUAD_CORNER_XY 437121.188 3852465.722 *
SECONDARY_NW_QUAD_XY 437167.258 3859199.549 *
SECONDARY_NE_QUAD_XY 442879.409 3859162.138 *
SECONDARY_SE_QUAD_XY 442836.212 3852231.350 *
SECONDARY_SW_QUAD_XY 437119.741 3852268.731 *
RMSE_XY 2.122 *
IMAGE_SOURCE "BLACK AND WHITE FILM" *
SOURCE_IMAGE_ID "NAPP 6851 129" *
SOURCE_IMAGE_DATE 1994 05 28 *
SOURCE_DEM_DATE 1972 01 01 *
AGENCY "WESTERN MAPPING CENTER (WMC)" *
PRODUCER "ANALYTICAL SURVEYS INC." *
PRODUCTION_SYSTEM "ORBIT OR_RECTIFY V.5.2" *
STANDARD_VERSION 1996 12 *
METADATA_DATE 1998 04 30 *
DATA_FILE_SIZE 49189680 *
BYTE_COUNT 6480 * * * * * * * * * * * * * * * * * * * * * * * * * * * * * * * * * * * * * *
END_USGS_HEADER *
