BEGIN_USGS_DOQ_HEADER *
QUADRANGLE_NAME "REDMAN" *
QUADRANT NE *
NORTH_LATITUDE 34 52 30.000 *
WEST_LONGITUDE -117 56 15.000 *
SOUTH_LATITUDE 34 48 45.000 *
EAST_LONGITUDE -117 52 30.000 *
PRODUCTION_DATE 1998 05 01 *
RASTER_ORDER LEFT_RIGHT/TOP_BOTTOM *
BAND_ORGANIZATION "SINGLE FILE" *
BAND_CONTENT BLACK&WHITE *
BITS_PER_PIXEL 8 *
SAMPLES_AND_LINES 6510 7620 *
HORIZONTAL_DATUM NAD83 *
HORIZONTAL_COORDINATE_SYSTEM UTM *
COORDINATE_ZONE 11 *
HORIZONTAL_UNITS METERS *
HORIZONTAL_RESOLUTION 1.000 *
SECONDARY_HORIZONTAL_DATUM NAD27 *
XY_ORIGIN 413850.000 3859890.000 *
SECONDARY_XY_ORIGIN 413930.427 3859694.421 *
NATION US *
STATE CA *
NW_QUAD_CORNER_XY 414320.347 3859582.007 *
NE_QUAD_CORNER_XY 420032.484 3859530.342 *
SE_QUAD_CORNER_XY 419972.003 3852599.225 *
SW_QUAD_CORNER_XY 414255.544 3852650.848 *
SECONDARY_NW_QUAD_XY 414318.371 3859384.830 *
SECONDARY_NE_QUAD_XY 420030.641 3859333.164 *
SECONDARY_SE_QUAD_XY 419970.161 3852402.238 *
SECONDARY_SW_QUAD_XY 414253.571 3852453.862 *
RMSE_XY 0.968 *
IMAGE_SOURCE "BLACK AND WHITE FILM" *
SOURCE_IMAGE_ID "NAPP 6850 157" *
SOURCE_IMAGE_DATE 1994 05 28 *
SOURCE_DEM_DATE 1972 01 01 *
AGENCY "WESTERN MAPPING CENTER (WMC)" *
PRODUCER "ANALYTICAL SURVEYS INC." *
PRODUCTION_SYSTEM "ORBIT OR_RECTIFY V.5.2" *
STANDARD_VERSION 1996 12 *
METADATA_DATE 1998 05 01 *
DATA_FILE_SIZE 49612710 *
BYTE_COUNT 6510 * * * * * * * * * * * * * * * * * * * * * * * * * * * * * * * * * * * * * * *
END_USGS_HEADER *
