BEGIN_USGS_DOQ_HEADER *
QUADRANGLE_NAME "MONOLITH" *
QUADRANT NW *
NORTH_LATITUDE 35 07 30.000 *
WEST_LONGITUDE -118 22 30.000 *
SOUTH_LATITUDE 35 03 45.000 *
EAST_LONGITUDE -118 18 45.000 *
PRODUCTION_DATE 1998 04 28 *
RASTER_ORDER LEFT_RIGHT/TOP_BOTTOM *
BAND_ORGANIZATION "SINGLE FILE" *
BAND_CONTENT BLACK&WHITE *
BITS_PER_PIXEL 8 *
SAMPLES_AND_LINES 6510 7650 *
HORIZONTAL_DATUM NAD83 *
HORIZONTAL_COORDINATE_SYSTEM UTM *
COORDINATE_ZONE 11 *
HORIZONTAL_UNITS METERS *
HORIZONTAL_RESOLUTION 1.000 *
SECONDARY_HORIZONTAL_DATUM NAD27 *
XY_ORIGIN 374220.000 3888090.000 *
SECONDARY_XY_ORIGIN 374300.581 3887894.678 *
NATION US *
STATE CA *
NW_QUAD_CORNER_XY 374715.984 3887770.272 *
NE_QUAD_CORNER_XY 380411.059 3887693.409 *
SE_QUAD_CORNER_XY 380319.753 3880761.668 *
SW_QUAD_CORNER_XY 374620.327 3880838.470 *
SECONDARY_NW_QUAD_XY 374713.076 3887572.353 *
SECONDARY_NE_QUAD_XY 380408.284 3887495.489 *
SECONDARY_SE_QUAD_XY 380316.980 3880563.934 *
SECONDARY_SW_QUAD_XY 374617.422 3880640.738 *
RMSE_XY 1.599 *
IMAGE_SOURCE "BLACK AND WHITE FILM" *
SOURCE_IMAGE_ID "NAPP 6876 224" *
SOURCE_IMAGE_DATE 1995 10 04 *
SOURCE_DEM_DATE 1998 01 01 *
AGENCY "WESTERN MAPPING CENTER (WMC)" *
PRODUCER "ANALYTICAL SURVEYS INC." *
PRODUCTION_SYSTEM "ORBIT OR_RECTIFY V.5.2" *
STANDARD_VERSION 1996 12 *
METADATA_DATE 1998 04 28 *
DATA_FILE_SIZE 49808010 *
BYTE_COUNT 6510 * * * * * * * * * * * * * * * * * * * * * * * * * * * * * * * * * * * * * * *
END_USGS_HEADER *
